Workbook

Sheet 9 Day California
B1: $CAD
A2: Budget | B2: 5000
A3: Total Vacation Cost (Activities + Food) | B3: =I143 -> 4556.25
A4: $ Available | B4: =B2-B3 -> 443.75
A5: $ Actual Spent | B5: =K143 -> 0
A7: Day | B7: Date | C7: Time | D7: Activity | E7: Category | F7: Travel Time | G7: Transit | H7: Budget Cost ($US) | I7: Budget Cost ($CAD) | J7: Actual Cost ($US) | K7: Actual Cost ($CAD) | L7: Notes
A8: 1 | B8: Day 1 | C8: 0.33333333 | I8: ='9 Day California'!$H8*1.25 -> 0 | J8: 0 | K8: ='9 Day California'!$J8*1.25 -> 0
A9: =$A$8 -> 1 | B9: Day 1 | C9: 0.375 | D9: Flight to San Francisco | F9: 3 hour flight | H9: 600 | I9: ='9 Day California'!$H9*1.25 -> 750 | J9: 0 | K9: ='9 Day California'!$J9*1.25 -> 0
A10: =$A$8 -> 1 | B10: Day 1 | C10: 0.41666667 | I10: ='9 Day California'!$H10*1.25 -> 0 | J10: 0 | K10: ='9 Day California'!$J10*1.25 -> 0
A11: =$A$8 -> 1 | B11: Day 1 | C11: 0.45833333 | I11: ='9 Day California'!$H11*1.25 -> 0 | J11: 0 | K11: ='9 Day California'!$J11*1.25 -> 0 | L11: Muni Mobile: https://www.sfmta.com/getting-around/muni/fares/munimobile
A12: =$A$8 -> 1 | B12: Day 1 | C12: 0.5 | I12: ='9 Day California'!$H12*1.25 -> 0 | J12: 0 | K12: ='9 Day California'!$J12*1.25 -> 0 | L12: Day Pass: https://www.sfmta.com/fares/day-pass
A13: =$A$8 -> 1 | B13: Day 1 | C13: 0.54166667 | D13: Lunch Boudin Bakery (Sourdough clam chowder) (9:30am - 8pm) | E13: Food | F13: 1hour transit | H13: 25 | I13: ='9 Day California'!$H13*1.25 -> 31.25 | J13: 0 | K13: ='9 Day California'!$J13*1.25 -> 0
A14: =$A$8 -> 1 | B14: Day 1 | C14: 0.58333333 | D14: Lombard Street | E14: Activity | F14: 20min transit | H14: 0 | I14: ='9 Day California'!$H14*1.25 -> 0 | J14: 0 | K14: ='9 Day California'!$J14*1.25 -> 0
A15: =$A$8 -> 1 | B15: Day 1 | C15: 0.625 | D15: San Francisco Brewing Co (Weds-Mon 12-8pm) | E15: Activity | F15: 10min walk | H15: 15 | I15: ='9 Day California'!$H15*1.25 -> 18.75 | J15: 0 | K15: ='9 Day California'!$J15*1.25 -> 0
A16: =$A$8 -> 1 | B16: Day 1 | C16: 0.66666667 | D16: The Original Ghirardelli Ice Cream at Ghirardelli Square (10am-9pm) | E16: Activity | F16: 1min walk | H16: 15 | I16: ='9 Day California'!$H16*1.25 -> 18.75 | J16: 0 | K16: ='9 Day California'!$J16*1.25 -> 0
A17: =$A$8 -> 1 | B17: Day 1 | C17: 0.70833333 | D17: Fisherman's Wharf (Pier 39, USS Pampanito, SS Jeremiah O'Brien, Hyde St. Pier, Eureka Steamboat, See Alcatraz Island etc.) | E17: Activity | F17: 7min walk | H17: 0 | I17: ='9 Day California'!$H17*1.25 -> 0 | K17: ='9 Day California'!$J17*1.25 -> 0
A18: =$A$8 -> 1 | B18: Day 1 | C18: 0.75 | D18: Dinner at Fisherman's Wharf (Bubba Gump 11:30am-8pm) | E18: Food | F18: 12min walk | H18: 45 | I18: ='9 Day California'!$H18*1.25 -> 56.25 | J18: 0 | K18: ='9 Day California'!$J18*1.25 -> 0
A19: =$A$8 -> 1 | B19: Day 1 | C19: 0.79166667 | D19: Tugboat Sally's Fresh Beignets (10am-8pm) | E19: Food | F19: 9min walk | H19: 10 | I19: ='9 Day California'!$H19*1.25 -> 12.5 | J19: 0 | K19: ='9 Day California'!$J19*1.25 -> 0
A20: =$A$8 -> 1 | B20: Day 1 | C20: 0.83333333 | I20: ='9 Day California'!$H20*1.25 -> 0 | J20: 0 | K20: ='9 Day California'!$J20*1.25 -> 0
A21: =$A$8 -> 1 | B21: Day 1 | C21: 0.875 | D21: Hotel (Stay in San Fran) | E21: Accomodation | F21: 24min transit | H21: 120 | I21: ='9 Day California'!$H21*1.25 -> 150 | J21: 0 | K21: ='9 Day California'!$J21*1.25 -> 0 | L21: The Andrews Hotel, 624 Post St, San Francisco, 94109, CA, US
A22: =$A$8 -> 1 | B22: Day 1 | C22: 0.91666667 | D22: Transit/Parking/Gas + Phone Plan | E22: Travel | H22: 60 | I22: ='9 Day California'!$H22*1.25 -> 75 | J22: 0 | K22: ='9 Day California'!$J22*1.25 -> 0
A23: =$A$8+1 -> 2 | B23: Day 2 | C23: 0.33333333 | D23: Brunch Chinatown (Good Mong Kok Bakery 7am-6pm) | E23: Food | F23: 12min transit | H23: 25 | I23: ='9 Day California'!$H23*1.25 -> 31.25 | J23: 0 | K23: ='9 Day California'!$J23*1.25 -> 0
A24: =$A$8+1 -> 2 | B24: Day 2 | C24: 0.375 | D24: Wander Chinatown (Grace Cathedral (13min walk) --> Golden Gate Fortune Cookie Factory (11min walk)) | E24: Activity | F24: 13min walk | H24: 5 | I24: ='9 Day California'!$H24*1.25 -> 6.25 | J24: 0 | K24: ='9 Day California'!$J24*1.25 -> 0
A25: =$A$8+1 -> 2 | B25: Day 2 | C25: 0.41666667 | D25: Coit Tower (10am-5pm) | E25: Activity | F25: 26min walk | H25: 20 | I25: ='9 Day California'!$H25*1.25 -> 25 | J25: 0 | K25: ='9 Day California'!$J25*1.25 -> 0
A26: =$A$8+1 -> 2 | B26: Day 2 | C26: 0.45833333 | D26: Golden Gate Bridge Vista Point (Presidio & Marshall Beach, Fort Point National Historic Site) | E26: Activity | F26: 55min transit | H26: 0 | I26: ='9 Day California'!$H26*1.25 -> 0 | J26: 0 | K26: ='9 Day California'!$J26*1.25 -> 0
A27: =$A$8+1 -> 2 | B27: Day 2 | C27: 0.5 | D27: Crissy Field (12min walk) --> The Palace of Fine Arts (17min walk) | F27: 13min walk | H27: 0 | I27: =H27*1.25 -> 0 | J27: 0 | K27: ='9 Day California'!$J27*1.25 -> 0
A28: =$A$8+1 -> 2 | B28: Day 2 | C28: 0.54166667 | D28: Wander Golden Gate Park | E28: Activity | F28: 25min transit | H28: 0 | I28: =H28*1.25 -> 0 | J28: 0 | K28: ='9 Day California'!$J28*1.25 -> 0
A29: =$A$8+1 -> 2 | B29: Day 2 | C29: 0.58333333 | D29: Wander Haight-Ashbury | E29: Activity | F29: 6min walk | H29: 0 | I29: ='9 Day California'!$H28*1.25 -> 0 | J29: 0 | K29: ='9 Day California'!$J29*1.25 -> 0
A30: =$A$8+1 -> 2 | B30: Day 2 | C30: 0.625 | I30: ='9 Day California'!$H29*1.25 -> 0 | J30: 0 | K30: ='9 Day California'!$J30*1.25 -> 0
A31: =$A$8+1 -> 2 | B31: Day 2 | C31: 0.66666667 | I31: =H31*1.25 -> 0 | J31: 0 | K31: ='9 Day California'!$J31*1.25 -> 0
A32: =$A$8+1 -> 2 | B32: Day 2 | C32: 0.70833333 | K32: ='9 Day California'!$J32*1.25 -> 0
A33: =$A$8+1 -> 2 | B33: Day 2 | C33: 0.75 | D33: Dinner Zzan Koran Restaurant (4pm-2am) | E33: Food | F33: 35min transit | H33: 40 | I33: ='9 Day California'!$H33*1.25 -> 50 | J33: 0 | K33: ='9 Day California'!$J33*1.25 -> 0
A34: =$A$8+1 -> 2 | B34: Day 2 | C34: 0.79166667 | D34: Drinks at Anina (Tues 4-10pm, Weds-Thurs 4-11pm, Fri 2pm-12am, Sat 1pm-12am, Sun 1-7pm) | E34: Activity | F34: 22min transit | H34: 30 | I34: ='9 Day California'!$H34*1.25 -> 37.5 | J34: 0 | K34: ='9 Day California'!$J34*1.25 -> 0
A35: =$A$8+1 -> 2 | B35: Day 2 | C35: 0.83333333 | I35: ='9 Day California'!$H35*1.25 -> 0 | J35: 0 | K35: ='9 Day California'!$J35*1.25 -> 0
A36: =$A$8+1 -> 2 | B36: Day 2 | C36: 0.875 | D36: Hotel (Stay in San Fran) | E36: Accomodation | F36: 26min transit | H36: 120 | I36: ='9 Day California'!$H36*1.25 -> 150 | J36: 0 | K36: ='9 Day California'!$J36*1.25 -> 0 | L36: The Andrews Hotel, 624 Post St, San Francisco, 94109, CA, US
A37: =$A$8+1 -> 2 | B37: Day 2 | C37: 0.91666667 | D37: Transit/Parking/Gas + Phone Plan | E37: Travel | H37: 20 | I37: ='9 Day California'!$H37*1.25 -> 25 | J37: 0 | K37: ='9 Day California'!$J37*1.25 -> 0
A38: =$A$8+2 -> 3 | B38: Day 3 | C38: 0.33333333 | I38: ='9 Day California'!$H38*1.25 -> 0 | J38: 0 | K38: ='9 Day California'!$J38*1.25 -> 0
A39: =$A$8+2 -> 3 | B39: Day 3 | C39: 0.375 | D39: Pick-up car (Union Square 325 Mason Street) | F39: 4min walk | H39: 450 | I39: ='9 Day California'!$H39*1.25 -> 562.5 | J39: 0 | K39: ='9 Day California'!$J39*1.25 -> 0
A40: =$A$8+2 -> 3 | B40: Day 3 | C40: 0.41666667 | D40: Painted Ladies | E40: Activity | F40: 13min drive | H40: 0 | I40: ='9 Day California'!$H40*1.25 -> 0 | J40: 0 | K40: ='9 Day California'!$J40*1.25 -> 0
A41: =$A$8+2 -> 3 | B41: Day 3 | C41: 0.45833333 | D41: Twin Peaks (Christmas Tree Point) | E41: Activity | F41: 16min drive | H41: 0 | I41: ='9 Day California'!$H41*1.25 -> 0 | J41: 0 | K41: ='9 Day California'!$J41*1.25 -> 0
...

Sheet Pivot Table 1
A2: California
B3: Category | C3: SUM of Budget Cost ($CAD) | D3: SUM of Actual Cost ($CAD) | F3: Day | G3: Sum of Budget Cost ($CAD) | H3: Sum of Actual Cost ($CAD)
B4: Accomodation | C4: 1100 | D4: 0 | F4: 1 | G4: 1112.5 | H4: 0
B5: Activity | C5: 772.5 | D5: 0 | F5: 2 | G5: 325 | H5: 0
B6: Car | C6: 400 | D6: 0 | F6: 3 | G6: 837.5 | H6: 0
B7: Food | C7: 906.25 | D7: 0 | F7: 4 | G7: 456.25 | H7: 0
B8: Travel | C8: 140 | D8: 0 | F8: 5 | G8: 362.5 | H8: 0
B9: (blank) | C9: 1337.5 | D9: 0 | F9: 6 | G9: 496.25 | H9: 0
B10: Grand Total | C10: 4656.25 | D10: 0 | F10: 7 | G10: 616.25 | H10: 0
F11: 8 | G11: 350 | H11: 0
F12: 9 | G12: 100 | H12: 0
F13: Grand Total | G13: 4656.25 | H13: 0
