Workbook

Sheet 9 Day California
B1: $CAD
A2: Budget | B2: 5000
A3: Total Vacation Cost (Activities + Food) | B3: =I143 -> 4556.25
A4: $ Available | B4: =B2-B3 -> 443.75
A5: $ Actual Spent | B5: =K143 -> 0
A7: Day | B7: Date | C7: Time | D7: Activity | E7: Category | F7: Travel Time | G7: Transit | H7: Budget Cost ($US) | I7: Budget Cost ($CAD) | J7: Actual Cost ($US) | K7: Actual Cost ($CAD) | L7: Notes
A8: 1 | B8: Day 1 | C8: 0.33333333 | I8: ='9 Day California'!$H8*1.25 -> 0 | J8: 0 | K8: ='9 Day California'!$J8*1.25 -> 0
A9: =$A$8 -> 1 | B9: Day 1 | C9: 0.375 | D9: Flight to San Francisco | F9: 3 hour flight | H9: 600 | I9: ='9 Day California'!$H9*1.25 -> 750 | J9: 0 | K9: ='9 Day California'!$J9*1.25 -> 0
A10: =$A$8 -> 1 | B10: Day 1 | C10: 0.41666667 | I10: ='9 Day California'!$H10*1.25 -> 0 | J10: 0 | K10: ='9 Day California'!$J10*1.25 -> 0
A11: =$A$8 -> 1 | B11: Day 1 | C11: 0.45833333 | I11: ='9 Day California'!$H11*1.25 -> 0 | J11: 0 | K11: ='9 Day California'!$J11*1.25 -> 0 | L11: Muni Mobile: https://www.sfmta.com/getting-around/muni/fares/munimobile
A12: =$A$8 -> 1 | B12: Day 1 | C12: 0.5 | I12: ='9 Day California'!$H12*1.25 -> 0 | J12: 0 | K12: ='9 Day California'!$J12*1.25 -> 0 | L12: Day Pass: https://www.sfmta.com/fares/day-pass
A13: =$A$8 -> 1 | B13: Day 1 | C13: 0.54166667 | D13: Lunch Boudin Bakery (Sourdough clam chowder) (9:30am - 8pm) | E13: Food | F13: 1hour transit | H13: 25 | I13: ='9 Day California'!$H13*1.25 -> 31.25 | J13: 0 | K13: ='9 Day California'!$J13*1.25 -> 0
A14: =$A$8 -> 1 | B14: Day 1 | C14: 0.58333333 | D14: Lombard Street | E14: Activity | F14: 20min transit | H14: 0 | I14: ='9 Day California'!$H14*1.25 -> 0 | J14: 0 | K14: ='9 Day California'!$J14*1.25 -> 0
A15: =$A$8 -> 1 | B15: Day 1 | C15: 0.625 | D15: San Francisco Brewing Co (Weds-Mon 12-8pm) | E15: Activity | F15: 10min walk | H15: 15 | I15: ='9 Day California'!$H15*1.25 -> 18.75 | J15: 0 | K15: ='9 Day California'!$J15*1.25 -> 0
A16: =$A$8 -> 1 | B16: Day 1 | C16: 0.66666667 | D16: The Original Ghirardelli Ice Cream at Ghirardelli Square (10am-9pm) | E16: Activity | F16: 1min walk | H16: 15 | I16: ='9 Day California'!$H16*1.25 -> 18.75 | J16: 0 | K16: ='9 Day California'!$J16*1.25 -> 0
A17: =$A$8 -> 1 | B17: Day 1 | C17: 0.70833333 | D17: Fisherman's Wharf (Pier 39, USS Pampanito, SS Jeremiah O'Brien, Hyde St. Pier, Eureka Steamboat, See Alcatraz Island etc.) | E17: Activity | F17: 7min walk | H17: 0 | I17: ='9 Day California'!$H17*1.25 -> 0 | K17: ='9 Day California'!$J17*1.25 -> 0
A18: =$A$8 -> 1 | B18: Day 1 | C18: 0.75 | D18: Dinner at Fisherman's Wharf (Bubba Gump 11:30am-8pm) | E18: Food | F18: 12min walk | H18: 45 | I18: ='9 Day California'!$H18*1.25 -> 56.25 | J18: 0 | K18: ='9 Day California'!$J18*1.25 -> 0
A19: =$A$8 -> 1 | B19: Day 1 | C19: 0.79166667 | D19: Tugboat Sally's Fresh Beignets (10am-8pm) | E19: Food | F19: 9min walk | H19: 10 | I19: ='9 Day California'!$H19*1.25 -> 12.5 | J19: 0 | K19: ='9 Day California'!$J19*1.25 -> 0
A20: =$A$8 -> 1 | B20: Day 1 | C20: 0.83333333 | I20: ='9 Day California'!$H20*1.25 -> 0 | J20: 0 | K20: ='9 Day California'!$J20*1.25 -> 0
A21: =$A$8 -> 1 | B21: Day 1 | C21: 0.875 | D21: Hotel (Stay in San Fran) | E21: Accomodation | F21: 24min transit | H21: 120 | I21: ='9 Day California'!$H21*1.25 -> 150 | J21: 0 | K21: ='9 Day California'!$J21*1.25 -> 0 | L21: The Andrews Hotel, 624 Post St, San Francisco, 94109, CA, US
A22: =$A$8 -> 1 | B22: Day 1 | C22: 0.91666667 | D22: Transit/Parking/Gas + Phone Plan | E22: Travel | H22: 60 | I22: ='9 Day California'!$H22*1.25 -> 75 | J22: 0 | K22: ='9 Day California'!$J22*1.25 -> 0
A23: =$A$8+1 -> 2 | B23: Day 2 | C23: 0.33333333 | D23: Brunch Chinatown (Good Mong Kok Bakery 7am-6pm) | E23: Food | F23: 12min transit | H23: 25 | I23: ='9 Day California'!$H23*1.25 -> 31.25 | J23: 0 | K23: ='9 Day California'!$J23*1.25 -> 0
A24: =$A$8+1 -> 2 | B24: Day 2 | C24: 0.375 | D24: Wander Chinatown (Grace Cathedral (13min walk) --> Golden Gate Fortune Cookie Factory (11min walk)) | E24: Activity | F24: 13min walk | H24: 5 | I24: ='9 Day California'!$H24*1.25 -> 6.25 | J24: 0 | K24: ='9 Day California'!$J24*1.25 -> 0
A25: =$A$8+1 -> 2 | B25: Day 2 | C25: 0.41666667 | D25: Coit Tower (10am-5pm) | E25: Activity | F25: 26min walk | H25: 20 | I25: ='9 Day California'!$H25*1.25 -> 25 | J25: 0 | K25: ='9 Day California'!$J25*1.25 -> 0
A26: =$A$8+1 -> 2 | B26: Day 2 | C26: 0.45833333 | D26: Golden Gate Bridge Vista Point (Presidio & Marshall Beach, Fort Point National Historic Site) | E26: Activity | F26: 55min transit | H26: 0 | I26: ='9 Day California'!$H26*1.25 -> 0 | J26: 0 | K26: ='9 Day California'!$J26*1.25 -> 0
A27: =$A$8+1 -> 2 | B27: Day 2 | C27: 0.5 | D27: Crissy Field (12min walk) --> The Palace of Fine Arts (17min walk) | F27: 13min walk | H27: 0 | I27: =H27*1.25 -> 0 | J27: 0 | K27: ='9 Day California'!$J27*1.25 -> 0
A28: =$A$8+1 -> 2 | B28: Day 2 | C28: 0.54166667 | D28: Wander Golden Gate Park | E28: Activity | F28: 25min transit | H28: 0 | I28: =H28*1.25 -> 0 | J28: 0 | K28: ='9 Day California'!$J28*1.25 -> 0
A29: =$A$8+1 -> 2 | B29: Day 2 | C29: 0.58333333 | D29: Wander Haight-Ashbury | E29: Activity | F29: 6min walk | H29: 0 | I29: ='9 Day California'!$H28*1.25 -> 0 | J29: 0 | K29: ='9 Day California'!$J29*1.25 -> 0
A30: =$A$8+1 -> 2 | B30: Day 2 | C30: 0.625 | I30: ='9 Day California'!$H29*1.25 -> 0 | J30: 0 | K30: ='9 Day California'!$J30*1.25 -> 0
A31: =$A$8+1 -> 2 | B31: Day 2 | C31: 0.66666667 | I31: =H31*1.25 -> 0 | J31: 0 | K31: ='9 Day California'!$J31*1.25 -> 0
A32: =$A$8+1 -> 2 | B32: Day 2 | C32: 0.70833333 | K32: ='9 Day California'!$J32*1.25 -> 0
A33: =$A$8+1 -> 2 | B33: Day 2 | C33: 0.75 | D33: Dinner Zzan Koran Restaurant (4pm-2am) | E33: Food | F33: 35min transit | H33: 40 | I33: ='9 Day California'!$H33*1.25 -> 50 | J33: 0 | K33: ='9 Day California'!$J33*1.25 -> 0
A34: =$A$8+1 -> 2 | B34: Day 2 | C34: 0.79166667 | D34: Drinks at Anina (Tues 4-10pm, Weds-Thurs 4-11pm, Fri 2pm-12am, Sat 1pm-12am, Sun 1-7pm) | E34: Activity | F34: 22min transit | H34: 30 | I34: ='9 Day California'!$H34*1.25 -> 37.5 | J34: 0 | K34: ='9 Day California'!$J34*1.25 -> 0
A35: =$A$8+1 -> 2 | B35: Day 2 | C35: 0.83333333 | I35: ='9 Day California'!$H35*1.25 -> 0 | J35: 0 | K35: ='9 Day California'!$J35*1.25 -> 0
A36: =$A$8+1 -> 2 | B36: Day 2 | C36: 0.875 | D36: Hotel (Stay in San Fran) | E36: Accomodation | F36: 26min transit | H36: 120 | I36: ='9 Day California'!$H36*1.25 -> 150 | J36: 0 | K36: ='9 Day California'!$J36*1.25 -> 0 | L36: The Andrews Hotel, 624 Post St, San Francisco, 94109, CA, US
A37: =$A$8+1 -> 2 | B37: Day 2 | C37: 0.91666667 | D37: Transit/Parking/Gas + Phone Plan | E37: Travel | H37: 20 | I37: ='9 Day California'!$H37*1.25 -> 25 | J37: 0 | K37: ='9 Day California'!$J37*1.25 -> 0
A38: =$A$8+2 -> 3 | B38: Day 3 | C38: 0.33333333 | I38: ='9 Day California'!$H38*1.25 -> 0 | J38: 0 | K38: ='9 Day California'!$J38*1.25 -> 0
A39: =$A$8+2 -> 3 | B39: Day 3 | C39: 0.375 | D39: Pick-up car (Union Square 325 Mason Street) | F39: 4min walk | H39: 450 | I39: ='9 Day California'!$H39*1.25 -> 562.5 | J39: 0 | K39: ='9 Day California'!$J39*1.25 -> 0
A40: =$A$8+2 -> 3 | B40: Day 3 | C40: 0.41666667 | D40: Painted Ladies | E40: Activity | F40: 13min drive | H40: 0 | I40: ='9 Day California'!$H40*1.25 -> 0 | J40: 0 | K40: ='9 Day California'!$J40*1.25 -> 0
A41: =$A$8+2 -> 3 | B41: Day 3 | C41: 0.45833333 | D41: Twin Peaks (Christmas Tree Point) | E41: Activity | F41: 16min drive | H41: 0 | I41: ='9 Day California'!$H41*1.25 -> 0 | J41: 0 | K41: ='9 Day California'!$J41*1.25 -> 0
A42: =$A$8+2 -> 3 | B42: Day 3 | C42: 0.5 | D42: Lunch at In and out Burger (10:30am-1am) | E42: Food | F42: 25min drive | H42: 25 | I42: ='9 Day California'!$H42*1.25 -> 31.25 | J42: 0 | K42: ='9 Day California'!$J42*1.25 -> 0
A43: =$A$8+2 -> 3 | B43: Day 3 | C43: 0.54166667 | D43: Drive to Monterey | E43: Travel | F43: 1h 42min drive | H43: 0 | I43: ='9 Day California'!$H43*1.25 -> 0 | J43: 0 | K43: ='9 Day California'!$J43*1.25 -> 0
A44: =$A$8+2 -> 3 | B44: Day 3 | C44: 0.58333333 | I44: =H45*1.25 -> 25 | J44: 0 | K44: ='9 Day California'!$J44*1.25 -> 0
A45: =$A$8+2 -> 3 | B45: Day 3 | C45: 0.625 | D45: Carmel Mission Basilica Museum (Weds-Sun 10am-4pm) | E45: Activity | F45: 14min drive | H45: 20 | I45: =H46*1.25 -> 0 | J45: 0 | K45: ='9 Day California'!$J45*1.25 -> 0
A46: =$A$8+2 -> 3 | B46: Day 3 | C46: 0.66666667 | D46: Carmel Beach (8am-9pm) | E46: Activity | F46: 5min drive | H46: 0 | I46: =H46*1.25 -> 0 | J46: 0 | K46: ='9 Day California'!$J46*1.25 -> 0
A47: =$A$8+2 -> 3 | B47: Day 3 | C47: 0.70833333 | D47: Stroll Ocean Avenue and Carmel Fairytale Cottages (Carmel Walks) | E47: Activity | F47: 15min walk | H47: 0 | I47: ='9 Day California'!$H47*1.25 -> 0 | K47: ='9 Day California'!$J47*1.25 -> 0
A48: =$A$8+2 -> 3 | B48: Day 3 | C48: 0.75 | D48: Dinner (Hula's Island Grill Weds-Sun 12-9pm, Mon-Tues 4-9pm) | E48: Food | F48: 14min drive | H48: 40 | I48: ='9 Day California'!$H48*1.25 -> 50 | J48: 0 | K48: ='9 Day California'!$J48*1.25 -> 0
A49: =$A$8+2 -> 3 | B49: Day 3 | C49: 0.79166667 | D49: Drinks (Fieldwork Brewing Company 12-9pm) | E49: Activity | F49: 5min drive | H49: 15 | I49: ='9 Day California'!$H49*1.25 -> 18.75 | J49: 0 | K49: ='9 Day California'!$J49*1.25 -> 0
A50: =$A$8+2 -> 3 | B50: Day 3 | C50: 0.83333333 | I50: ='9 Day California'!$H50*1.25 -> 0 | J50: 0 | K50: ='9 Day California'!$J50*1.25 -> 0
A51: =$A$8+2 -> 3 | B51: Day 3 | C51: 0.875 | D51: Hotel (Stay in Monterey) | E51: Accomodation | F51: 3min drive | H51: 100 | I51: ='9 Day California'!$H51*1.25 -> 125 | J51: 0 | K51: ='9 Day California'!$J51*1.25 -> 0 | L51: The Inn at 1252, 1252 Munras Ave, Monterey, 93940, CA, US
A52: =$A$8+2 -> 3 | B52: Day 3 | C52: 0.91666667 | D52: Transit/Parking/Gas + Phone Plan | E52: Travel | H52: 20 | I52: ='9 Day California'!$H52*1.25 -> 25 | J52: 0 | K52: ='9 Day California'!$J52*1.25 -> 0
A53: =$A$8+3 -> 4 | B53: Day 4 | C53: 0.33333333 | D53: Empanadas Cafe Guarani (Thurs-Tues 7am-5pm) | E53: Food | F53: 8min drive | H53: 15 | I53: ='9 Day California'!$H53*1.25 -> 18.75 | J53: 0 | K53: ='9 Day California'!$J53*1.25 -> 0
A54: =$A$8+3 -> 4 | B54: Day 4 | C54: 0.375 | D54: Stroll Cannery Row | E54: Activity | F54: 4min drive | H54: 0 | I54: ='9 Day California'!$H54*1.25 -> 0 | J54: 0 | K54: ='9 Day California'!$J54*1.25 -> 0 | L54: https://www.parks.ca.gov/?page_id=23294
A55: =$A$8+3 -> 4 | B55: Day 4 | C55: 0.41666667 | D55: Monterey Bay Aquarium (10am-5pm) | E55: Activity | F55: 6min walk | H55: 105 | I55: =H55*1.25 -> 131.25 | J55: 0 | K55: ='9 Day California'!$J55*1.25 -> 0
A56: =$A$8+3 -> 4 | B56: Day 4 | C56: 0.45833333 | I56: ='9 Day California'!$H56*1.25 -> 0 | J56: 0 | K56: ='9 Day California'!$J56*1.25 -> 0
A57: =$A$8+3 -> 4 | B57: Day 4 | C57: 0.5 | D57: Lunch Dametra Café (11am-11pm) | E57: Food | F57: 18min drive | H57: 40 | I57: ='9 Day California'!$H57*1.25 -> 50 | J57: 0 | K57: ='9 Day California'!$J57*1.25 -> 0 | L57: Day Use Pass $10, but can park on Highway for free
A58: =$A$8+3 -> 4 | B58: Day 4 | C58: 0.54166667 | D58: Castle Rock Viewpoint —> Rocky/Bixby Creek Bridge (21min drive) --> Hurricane Point View (3min drive) | E58: Activity | F58: 25min drive | H58: 0 | I58: ='9 Day California'!$H58*1.25 -> 0 | J58: 0 | K58: ='9 Day California'!$J58*1.25 -> 0
A59: =$A$8+3 -> 4 | B59: Day 4 | C59: 0.58333333 | D59: Pfeiffer Beach (Keyhole Rock) (27min drive) --> McWay Rocks (Julia Pfeiffer Burns State Park Vista Point) (25min drive) --> McWay Cove & McWay Falls (1min drive) | E59: Activity | F59: 1hour drive | H59: 0 | I59: ='9 Day California'!$H59*1.25 -> 0 | J59: 0 | K59: ='9 Day California'!$J59*1.25 -> 0 | L59: Day Use Pass $10, but can park on Highway for free
A60: =$A$8+3 -> 4 | B60: Day 4 | C60: 0.625 | D60: Ragged Point | E60: Activity | F60: 53min drive | H60: 0 | I60: ='9 Day California'!$H60*1.25 -> 0 | J60: 0 | K60: ='9 Day California'!$J60*1.25 -> 0 | L60: Day Use Pass $10, but can park on Highway for free
A61: =$A$8+3 -> 4 | B61: Day 4 | C61: 0.66666667 | D61: Elephant Seal Vista Point | E61: Activity | F61: 15min drive | H61: 0 | I61: ='9 Day California'!$H61*1.25 -> 0 | J61: 0 | K61: ='9 Day California'!$J61*1.25 -> 0
A62: =$A$8+3 -> 4 | B62: Day 4 | C62: 0.70833333 | I62: ='9 Day California'!$H62*1.25 -> 0 | K62: ='9 Day California'!$J62*1.25 -> 0 | L62: Day Use Pass $10, but can park on Highway for free
A63: =$A$8+3 -> 4 | B63: Day 4 | C63: 0.75 | D63: Dinner (Tognazzini's Dockside Restaurant 7am-9pm) | E63: Food | F63: 40min drive | H63: 45 | I63: ='9 Day California'!$H63*1.25 -> 56.25 | J63: 0 | K63: ='9 Day California'!$J63*1.25 -> 0
A64: =$A$8+3 -> 4 | B64: Day 4 | C64: 0.79166667 | D64: Drinks (The Siren 12pm-1am) | E64: Activity | F64: 12min walk | H64: 40 | I64: ='9 Day California'!$H64*1.25 -> 50 | J64: 0 | K64: ='9 Day California'!$J64*1.25 -> 0
A65: =$A$8+3 -> 4 | B65: Day 4 | C65: 0.83333333 | I65: ='9 Day California'!$H65*1.25 -> 0 | J65: 0 | K65: ='9 Day California'!$J65*1.25 -> 0
A66: =$A$8+3 -> 4 | B66: Day 4 | C66: 0.875 | D66: Hotel (Stay in Morro Bay) | E66: Accomodation | F66: 2min walk | H66: 100 | I66: ='9 Day California'!$H66*1.25 -> 125 | J66: 0 | K66: ='9 Day California'!$J66*1.25 -> 0 | L66: Pacific Shores Inn, 890 Morro Avenue, Morro Bay, 93442, CA, US
A67: =$A$8+3 -> 4 | B67: Day 4 | C67: 0.91666667 | D67: Transit/Parking/Gas + Phone Plan | E67: Car | H67: 20 | I67: ='9 Day California'!$H67*1.25 -> 25 | J67: 0 | K67: ='9 Day California'!$J67*1.25 -> 0
A68: =$A$8+4 -> 5 | B68: Day 5 | C68: 0.33333333 | D68: Breakfast Carla's Country Kitchen and Gift Shop (6:30am-2pm) | E68: Food | F68: 2min walk | H68: 30 | I68: ='9 Day California'!$H68*1.25 -> 37.5 | J68: 0 | K68: ='9 Day California'!$J68*1.25 -> 0
A69: =$A$8+4 -> 5 | B69: Day 5 | C69: 0.375 | D69: Morro Rock & Morro Strand State Beach in Morro Bay State Park | E69: Activity | F69: 3min drive | H69: 0 | I69: ='9 Day California'!$H69*1.25 -> 0 | J69: 0 | K69: ='9 Day California'!$J69*1.25 -> 0
A70: =$A$8+4 -> 5 | B70: Day 5 | C70: 0.41666667 | D70: Pismo Beach Monarch Butterfly Grove | E70: Activity | F70: 35min drive | H70: 0 | I70: ='9 Day California'!$H71*1.25 -> 0 | J70: 0 | K70: ='9 Day California'!$J70*1.25 -> 0
A71: =$A$8+4 -> 5 | B71: Day 5 | C71: 0.45833333 | D71: Lovers Loop Grassland (in Santa Ynez) (2 hour trail) | E71: Activity | F71: 58min drive | H71: 0 | I71: =H71*1.25 -> 0 | J71: 0 | K71: ='9 Day California'!$J71*1.25 -> 0
A72: =$A$8+4 -> 5 | B72: Day 5 | C72: 0.5 | D72: Saarloos and Sons Winery (11am-5pm) | E72: Activity | F72: 13min drive | H72: 15 | I72: ='9 Day California'!$H72*1.25 -> 18.75 | J72: 0 | K72: ='9 Day California'!$J72*1.25 -> 0
A73: =$A$8+4 -> 5 | B73: Day 5 | C73: 0.54166667 | D73: Lunch Lucky Hen Larder (Tues-Sat 10:30am-4pm) | E73: Food | F73: 9min drive | H73: 35 | I73: ='9 Day California'!$H73*1.25 -> 43.75 | J73: 0 | K73: ='9 Day California'!$J73*1.25 -> 0
A74: =$A$8+4 -> 5 | B74: Day 5 | C74: 0.58333333 | D74: Nojoqui Falls Trail (30 minute round trip) | E74: Activity | F74: 21min drive | H74: 0 | I74: ='9 Day California'!$H74*1.25 -> 0 | J74: 0 | K74: ='9 Day California'!$J74*1.25 -> 0
A75: =$A$8+4 -> 5 | B75: Day 5 | C75: 0.625 | D75: Sunstone Winery (11am-5pm) | E75: Activity | F75: 21min drive | H75: 15 | I75: ='9 Day California'!$H75*1.25 -> 18.75 | J75: 0 | K75: ='9 Day California'!$J75*1.25 -> 0
A76: =$A$8+4 -> 5 | B76: Day 5 | C76: 0.66666667 | D76: Walk around Solvang | E76: Activity | F76: 8min drive | H76: 0 | I76: ='9 Day California'!$H76*1.25 -> 0 | J76: 0 | K76: ='9 Day California'!$J76*1.25 -> 0
A77: =$A$8+4 -> 5 | B77: Day 5 | C77: 0.70833333 | I77: ='9 Day California'!$H77*1.25 -> 0 | K77: ='9 Day California'!$J77*1.25 -> 0
A78: =$A$8+4 -> 5 | B78: Day 5 | C78: 0.75 | D78: Appetizers Copenhagen Sausage Garden (11am-8pm) | E78: Food | F78: 5min walk | H78: 20 | I78: ='9 Day California'!$H78*1.25 -> 25 | J78: 0 | K78: ='9 Day California'!$J78*1.25 -> 0
A79: =$A$8+4 -> 5 | B79: Day 5 | C79: 0.79166667 | D79: Dinner Osteria Grappolo (Sat-Sun 11:30am - 9pm, Mon-Fri 4:30-9pm) | E79: Food | F79: 5min walk | H79: 40 | I79: ='9 Day California'!$H79*1.25 -> 50 | J79: 0 | K79: ='9 Day California'!$J79*1.25 -> 0
A80: =$A$8+4 -> 5 | B80: Day 5 | C80: 0.83333333 | D80: Drinks High Roller Tiki Lounge (Weds-Thurs 1-6pm, Fri-Sun 12-9pm, Closed Tuesday) | E80: Food | F80: 7min walk | H80: 15 | I80: ='9 Day California'!$H80*1.25 -> 18.75 | J80: 0 | K80: ='9 Day California'!$J80*1.25 -> 0
A81: =$A$8+4 -> 5 | B81: Day 5 | C81: 0.875 | D81: Hotel (Stay in Solvang) | E81: Accomodation | F81: 7min walk | H81: 100 | I81: ='9 Day California'!$H81*1.25 -> 125 | J81: 0 | K81: ='9 Day California'!$J81*1.25 -> 0 | L81: Hamlet Inn, 1532 Mission Dr, Solvang, 93463, CA, US
A82: =$A$8+4 -> 5 | B82: Day 5 | C82: 0.91666667 | D82: Transit/Parking/Gas + Phone Plan | E82: Car | H82: 20 | I82: ='9 Day California'!$H82*1.25 -> 25 | J82: 0 | K82: ='9 Day California'!$J82*1.25 -> 0
A83: =$A$8+5 -> 6 | B83: Day 6 | C83: 0.33333333 | D83: Breakfast Pastries at Olsen's Danish Village Bakery (7am-6pm) | E83: Food | F83: 1min walk | H83: 15 | I83: ='9 Day California'!$H83*1.25 -> 18.75 | J83: 0 | K83: ='9 Day California'!$J83*1.25 -> 0
A84: =$A$8+5 -> 6 | B84: Day 6 | C84: 0.375 | I84: ='9 Day California'!$H84*1.25 -> 0 | J84: 0 | K84: ='9 Day California'!$J84*1.25 -> 0
A85: =$A$8+5 -> 6 | B85: Day 6 | C85: 0.41666667 | D85: Old Mission Santa Ines | E85: Activity | F85: 3min drive | H85: 0 | I85: ='9 Day California'!$H85*1.25 -> 0 | J85: 0 | K85: ='9 Day California'!$J85*1.25 -> 0
A86: =$A$8+5 -> 6 | B86: Day 6 | C86: 0.45833333 | D86: Drive to Santa Barbara | E86: Travel | F86: 42min drive | H86: 12 | I86: ='9 Day California'!$H86*1.25 -> 15 | J86: 0 | K86: ='9 Day California'!$J86*1.25 -> 0
A87: =$A$8+5 -> 6 | B87: Day 6 | C87: 0.5 | D87: Old Mission Santa Barbara (9:30am-4pm) | E87: Activity | F87: 6min drive | H87: 30 | I87: ='9 Day California'!$H87*1.25 -> 37.5 | J87: 0 | K87: ='9 Day California'!$J87*1.25 -> 0
A88: =$A$8+5 -> 6 | B88: Day 6 | C88: 0.54166667 | D88: Lunch Bettina (11:30am-2:30pm, 4-8:30pm) | E88: Food | F88: 10min drive | H88: 35 | I88: ='9 Day California'!$H88*1.25 -> 43.75 | J88: 0 | K88: ='9 Day California'!$J88*1.25 -> 0
A89: =$A$8+5 -> 6 | B89: Day 6 | C89: 0.58333333 | D89: Wander downtown Santa Barbara (County Courthouse, El Presidio (5min walk), El Paseo (2min walk), and Paseo Nuevo (4min walk)) | E89: Activity | F89: 6min drive | H89: 0 | I89: ='9 Day California'!$H89*1.25 -> 0 | J89: 0 | K89: ='9 Day California'!$J89*1.25 -> 0
A90: =$A$8+5 -> 6 | B90: Day 6 | C90: 0.625 | D90: McConnell's Fine Ice Creams (12-10pm) | E90: Activity | F90: 8min walk | H90: 10 | I90: ='9 Day California'!$H90*1.25 -> 12.5 | J90: 0 | K90: ='9 Day California'!$J90*1.25 -> 0
A91: =$A$8+5 -> 6 | B91: Day 6 | C91: 0.66666667 | D91: Afternooon Snack at Moby Dick Restaurant | E91: Activity | F91: 21min walk | H91: 15 | I91: ='9 Day California'!$H91*1.25 -> 18.75 | J91: 0 | K91: ='9 Day California'!$J91*1.25 -> 0
A92: =$A$8+5 -> 6 | B92: Day 6 | C92: 0.70833333 | D92: Bike Ride Stearns Wharf and Santa Barbara Harbour | E92: Activity | F92: 25min walk | H92: 0 | I92: ='9 Day California'!$H92*1.25 -> 0 | K92: ='9 Day California'!$J92*1.25 -> 0
A93: =$A$8+5 -> 6 | B93: Day 6 | C93: 0.75 | D93: Dinner (Loquita Santa Barbara 5-9pm) Dinner Reservations 7pm | E93: Food | F93: 19min walk | H93: 55 | I93: ='9 Day California'!$H93*1.25 -> 68.75 | J93: 0 | K93: ='9 Day California'!$J93*1.25 -> 0
A94: =$A$8+5 -> 6 | B94: Day 6 | C94: 0.79166667 | D94: Cocktails at Test Pilot (4pm-1am) | E94: Activity | F94: 2min walk | H94: 25 | I94: ='9 Day California'!$H94*1.25 -> 31.25 | J94: 0 | K94: ='9 Day California'!$J94*1.25 -> 0
A95: =$A$8+5 -> 6 | B95: Day 6 | C95: 0.83333333 | I95: ='9 Day California'!$H95*1.25 -> 0 | J95: 0 | K95: ='9 Day California'!$J95*1.25 -> 0
A96: =$A$8+5 -> 6 | B96: Day 6 | C96: 0.875 | D96: Hotel (Stay in Santa Barbara) | E96: Accomodation | F96: 11min walk | H96: 100 | I96: ='9 Day California'!$H96*1.25 -> 125 | J96: 0 | K96: ='9 Day California'!$J96*1.25 -> 0 | L96: Lavender Inn by the Sea, 206 Castillo St, Santa Barbara, 93101, CA, US
A97: =$A$8+5 -> 6 | B97: Day 6 | C97: 0.91666667 | D97: Transit/Parking/Gas + Phone Plan | E97: Car | H97: 100 | I97: ='9 Day California'!$H97*1.25 -> 125 | J97: 0 | K97: ='9 Day California'!$J97*1.25 -> 0
A98: =$A$8+6 -> 7 | B98: Day 7 | C98: 0.33333333 | I98: =H98*1.25 -> 0 | J98: 0 | K98: ='9 Day California'!$J98*1.25 -> 0
A99: =$A$8+6 -> 7 | B99: Day 7 | C99: 0.375 | I99: =H99*1.25 -> 0 | J99: 0 | K99: ='9 Day California'!$J99*1.25 -> 0
A100: =$A$8+6 -> 7 | B100: Day 7 | C100: 0.41666667 | D100: Breakfast Lee's Sandwiches (Brookhurst Street Garden Grove) | E100: Food | F100: 2h 5min drive | H100: 15 | I100: =H100*1.25 -> 18.75 | J100: 0 | K100: ='9 Day California'!$J100*1.25 -> 0
A101: =$A$8+6 -> 7 | B101: Day 7 | C101: 0.45833333 | D101: Disneyland! | E101: Activity | F101: 15min drive | H101: =124*2 -> 248 | I101: =H101*1.25 -> 310 | J101: 0 | K101: ='9 Day California'!$J101*1.25 -> 0
...

Sheet Pivot Table 1
A2: California
B3: Category | C3: SUM of Budget Cost ($CAD) | D3: SUM of Actual Cost ($CAD) | F3: Day | G3: Sum of Budget Cost ($CAD) | H3: Sum of Actual Cost ($CAD)
B4: Accomodation | C4: 1100 | D4: 0 | F4: 1 | G4: 1112.5 | H4: 0
B5: Activity | C5: 772.5 | D5: 0 | F5: 2 | G5: 325 | H5: 0
B6: Car | C6: 400 | D6: 0 | F6: 3 | G6: 837.5 | H6: 0
B7: Food | C7: 906.25 | D7: 0 | F7: 4 | G7: 456.25 | H7: 0
B8: Travel | C8: 140 | D8: 0 | F8: 5 | G8: 362.5 | H8: 0
B9: (blank) | C9: 1337.5 | D9: 0 | F9: 6 | G9: 496.25 | H9: 0
B10: Grand Total | C10: 4656.25 | D10: 0 | F10: 7 | G10: 616.25 | H10: 0
F11: 8 | G11: 350 | H11: 0
F12: 9 | G12: 100 | H12: 0
F13: Grand Total | G13: 4656.25 | H13: 0
