Workbook

Sheet Itinerary
A1: Date | B1: Time | C1: Departure/Arrival | D1: Location | E1: Check-in | F1: Check-out | G1: Accomodation
A2: Day 1 | C2: Departure | D2: Home
A3: Day 2 | C3: Arrival | D3: Seoul
A4: Day 2 | C4: Overnight Trip | D4: Seoul | G4: Le Seoul Hotel - 56 Namdaemun-ro 1-gil, Jung-gu, Seoul, 04526 South Korea
A5: Day 3 | C5: Overnight Trip | D5: Seoul | G5: Le Seoul Hotel - 56 Namdaemun-ro 1-gil, Jung-gu, Seoul, 04526 South Korea
A6: Day 4 | C6: Overnight Trip | D6: Seoul | G6: Le Seoul Hotel - 56 Namdaemun-ro 1-gil, Jung-gu, Seoul, 04526 South Korea
A7: Day 5 | C7: Overnight Trip | D7: Chuncheon | G7: Sangsangmadang Chuncheon Stay Hotel - 22, Sports town-gil 399beon-gil, Chuncheon, Gangwon, 200-200 South Korea
A8: Day 6 | C8: Overnight Trip | D8: Gyeongju | G8: Gyeongju Hwangnamkwan Hanok Hotel - 1038, Poseok-ro, Gyeongju, North Gyeongsang, 780-080, South Korea
A9: Day 7 | C9: Overnight Trip | D9: Gyeongju | G9: Gyeongju Hwangnamkwan Hanok Hotel - 1038, Poseok-ro, Gyeongju, North Gyeongsang, 780-080, South Korea
A10: Day 8 | C10: Overnight Trip | D10: Busan | G10: Airbnb (Seomyeon)
A11: Day 9 | C11: Overnight Trip | D11: Busan | G11: Airbnb (Seomyeon)
A12: Day 10 | C12: Overnight Trip | D12: Busan | G12: Airbnb (Seomyeon)
A13: Day 11 | C13: Overnight Trip | D13: Suncheon | G13: Airbnb (Suncheon)
A14: Day 12 | C14: Overnight Trip | D14: Suncheon | G14: Airbnb (Suncheon)
A15: Day 13 | C15: Overnight Trip | D15: Jeonju | G15: The Mumum - 26-25, Choemyeonghui-gil, Wansan-gu, Jeonju, North Jeolla, 55042 South Korea
... A17: Day 15 | C17: Overnight Trip | D17: Seoul | G17: Hotel Cappuccino - 155, Bongeunsa-ro, Gangnam-gu, Seoul, 06122 South Korea
A18: Day 16 | C18: Departure | D18: Seoul
A19: Day 16 | C19: Arrival | D19: Home

Sheet Korea
B1: $CAD
A2: Budget | B2: 8000 | C2: *Budget based on 2 people
A3: Total Forecast (Activities + Food) | B3: =I250 -> 7517.5
A4: $ Available | B4: =B2-B3 -> 482.5
A5: $ Actual Spent | B5: =K250 -> 0
G6: *This column shows cost which can use T-Money Card. This is to identify how much to load on to T-Money Card.
A7: Day | B7: Date | C7: Time | D7: Activity | E7: Category | F7: Travel Time | G7: Transit Cost (Won) | H7: Forecast Cost (Won) | I7: Forecast Cost ($CAD) | J7: Actual Cost (Won) | K7: Actual Cost ($CAD) | L7: Notes
A8: 1 | B8: Insert First Date of Trip Here | C8: 0.33333333 | I8: =Korea!$H8*0.001 -> 0 | K8: =Korea!$J8*0.001 -> 0
A9: =$A$8 -> 1 | B9: =B8 -> Insert First Date of Trip Here | C9: 0.375 | I9: =Korea!$H9*0.001 -> 0 | K9: =Korea!$J9*0.001 -> 0
A10: =$A$8 -> 1 | B10: =B9 -> Insert First Date of Trip Here | C10: 0.41666667 | I10: =Korea!$H10*0.001 -> 0 | K10: =Korea!$J10*0.001 -> 0
A11: =$A$8 -> 1 | B11: =B10 -> Insert First Date of Trip Here | C11: 0.45833333 | I11: =Korea!$H11*0.001 -> 0 | K11: =Korea!$J11*0.001 -> 0
A12: =$A$8 -> 1 | B12: =B11 -> Insert First Date of Trip Here | C12: 0.5 | I12: =Korea!$H12*0.001 -> 0 | K12: =Korea!$J12*0.001 -> 0
A13: =$A$8 -> 1 | B13: =B12 -> Insert First Date of Trip Here | C13: 0.54166667 | I13: =Korea!$H13*0.001 -> 0 | K13: =Korea!$J13*0.001 -> 0
A14: =$A$8 -> 1 | B14: =B13 -> Insert First Date of Trip Here | C14: 0.58333333 | D14: Flight to Seoul | E14: Travel | H14: =I14/0.001 -> 3500000 | I14: 3500
A15: =$A$8 -> 1 | B15: =B14 -> Insert First Date of Trip Here | C15: 0.625 | D15: eSIM KT | E15: Travel | H15: 55000 | I15: =Korea!$H15*0.001 -> 55 | K15: =Korea!$J15*0.001 -> 0 | L15: KT Esim
A16: =$A$8 -> 1 | B16: =B15 -> Insert First Date of Trip Here | C16: 0.66666667 | I16: =Korea!$H16*0.001 -> 0 | K16: =Korea!$J16*0.001 -> 0
A17: =$A$8 -> 1 | B17: =B16 -> Insert First Date of Trip Here | C17: 0.70833333 | I17: =Korea!$H17*0.001 -> 0 | K17: =Korea!$J17*0.001 -> 0
A18: =$A$8 -> 1 | B18: =B17 -> Insert First Date of Trip Here | C18: 0.75 | I18: =Korea!$H18*0.001 -> 0 | K18: =Korea!$J18*0.001 -> 0
A19: =$A$8 -> 1 | B19: =B18 -> Insert First Date of Trip Here | C19: 0.79166667 | I19: =Korea!$H19*0.001 -> 0 | K19: =Korea!$J19*0.001 -> 0
A20: =$A$8 -> 1 | B20: =B19 -> Insert First Date of Trip Here | C20: 0.83333333 | I20: =Korea!$H20*0.001 -> 0 | K20: =Korea!$J20*0.001 -> 0
A21: =$A$8 -> 1 | B21: =B20 -> Insert First Date of Trip Here | C21: 0.875 | I21: =Korea!$H21*0.001 -> 0 | K21: =Korea!$J21*0.001 -> 0
A22: =$A$8 -> 1 | B22: =B21 -> Insert First Date of Trip Here | C22: 0.91666667 | H22: 0 | I22: =H22*0.001 -> 0 | J22: 0 | K22: =J22*0.001 -> 0
A23: =$A$8+1 -> 2 | B23: =B8+1 -> #VALUE! | C23: 0.33333333 | I23: =Korea!$H23*0.001 -> 0 | K23: =Korea!$J23*0.001 -> 0
A24: =$A$8+1 -> 2 | B24: =B23 -> #VALUE! | C24: 0.375 | I24: =Korea!$H24*0.001 -> 0 | K24: =Korea!$J24*0.001 -> 0
A25: =$A$8+1 -> 2 | B25: =B24 -> #VALUE! | C25: 0.41666667 | I25: =Korea!$H25*0.001 -> 0 | K25: =Korea!$J25*0.001 -> 0
A26: =$A$8+1 -> 2 | B26: =B25 -> #VALUE! | C26: 0.45833333 | I26: =Korea!$H26*0.001 -> 0 | K26: =Korea!$J26*0.001 -> 0
A27: =$A$8+1 -> 2 | B27: =B26 -> #VALUE! | C27: 0.5 | I27: =Korea!$H27*0.001 -> 0 | K27: =Korea!$J27*0.001 -> 0
A28: =$A$8+1 -> 2 | B28: =B27 -> #VALUE! | C28: 0.54166667 | I28: =Korea!$H28*0.001 -> 0 | K28: =Korea!$J28*0.001 -> 0
A29: =$A$8+1 -> 2 | B29: =B28 -> #VALUE! | C29: 0.58333333 | H29: 0 | I29: =Korea!$H29*0.001 -> 0 | K29: =Korea!$J29*0.001 -> 0
A30: =$A$8+1 -> 2 | B30: =B29 -> #VALUE! | C30: 0.625 | I30: =Korea!$H30*0.001 -> 0 | K30: =Korea!$J30*0.001 -> 0
A31: =$A$8+1 -> 2 | B31: =B30 -> #VALUE! | C31: 0.66666667 | I31: =Korea!$H31*0.001 -> 0 | K31: =Korea!$J31*0.001 -> 0
A32: =$A$8+1 -> 2 | B32: =B31 -> #VALUE! | C32: 0.70833333 | D32: Arrive in Seoul | E32: Travel | H32: 0 | I32: =Korea!$H32*0.001 -> 0 | K32: =Korea!$J32*0.001 -> 0
A33: =$A$8+1 -> 2 | B33: =B32 -> #VALUE! | C33: 0.75 | D33: Check in at Hotel | E33: Accomodation | F33: 1hour 26min transit | G33: =4750*2 -> 9500 | H33: 0 | I33: =Korea!$H33*0.001 -> 0 | K33: =Korea!$J33*0.001 -> 0
A34: =$A$8+1 -> 2 | B34: =B33 -> #VALUE! | C34: 0.79166667 | D34: Dinner Bokchon Son Tofu (10am-9pm) | E34: Food | F34: 15min walk | H34: 30000 | I34: =Korea!$H34*0.001 -> 30 | K34: =Korea!$J34*0.001 -> 0
A35: =$A$8+1 -> 2 | B35: =B34 -> #VALUE! | C35: 0.83333333 | D35: HBAF Almond Store (11am-11pm) —> Myeongdong Walking Street (Street Food - Japchae, 10cent bread) | E35: Activity | F35: 1min walk | H35: 20000 | I35: =Korea!$H35*0.001 -> 20 | K35: =Korea!$J35*0.001 -> 0
A36: =$A$8+1 -> 2 | B36: =B35 -> #VALUE! | C36: 0.875 | D36: Hotel/Airbnb (Seoul) | E36: Accomodation | F36: 15min walk | H36: 140000 | I36: =Korea!$H36*0.001 -> 140 | K36: =Korea!$J36*0.001 -> 0 | L36: Le Seoul Hotel 르서울호텔 - 56 Namdaemun-ro 1-gil, Jung-gu, Seoul, 04526 South Korea
A37: =$A$8+1 -> 2 | B37: =B36 -> #VALUE! | C37: 0.91666667 | D37: Transit | E37: Travel | H37: 66000 | I37: =Korea!$H37*0.001 -> 66 | K37: =Korea!$J37*0.001 -> 0 | L37: Pick-up T-Money Card at GS25 Airport - Load 30000 won/person + 3000won/person for card
A38: =$A$8+2 -> 3 | B38: =B23+1 -> #VALUE! | C38: 0.33333333 | D38: Breakfast Convenience Store (GS25 or 7-Eleven or CU) | E38: Food | F38: 2min walk | H38: 10000 | I38: =Korea!$H38*0.001 -> 10 | K38: =Korea!$J38*0.001 -> 0
A39: =$A$8+2 -> 3 | B39: =B38 -> #VALUE! | C39: 0.375 | D39: Deoksugung Palace (9am-9pm, Closed Monday) | E39: Activity | F39: 8min walk | H39: 20000 | I39: =Korea!$H39*0.001 -> 20 | K39: =Korea!$J39*0.001 -> 0 | L39: 1000won/adult; combination ticket 10000won/adult for Deoksugung Palace, Changdeokgung + Garden, Changgyeonggung, Gyeongbokgung, and Jonmyo Shrine.
A40: =$A$8+2 -> 3 | B40: =B39 -> #VALUE! | C40: 0.41666667 | D40: Cheonggyecheon Stream --> Gyeongbokgung Palace (19min walk) (9am-6pm, Closed Tuesday) | E40: Activity | F40: 14min walk | H40: 0 | I40: =Korea!$H40*0.001 -> 0 | K40: =Korea!$J40*0.001 -> 0 | L40: 3000won/adult for Gyeongbokgung Palace; admission included in Combination Palace Ticket
...

Sheet Pivot Table 1
A2: South Korea
B3: Category | C3: SUM of Budget Cost ($CAD) | D3: SUM of Actual Cost ($CAD) | F3: Day | G3: Sum of Budget Cost ($CAD) | H3: Sum of Actual Cost ($CAD)
B4: Accomodation | C4: 1480 | D4: 0 | F4: 1 | G4: 3555 | H4: 0
B5: Activity | C5: 671 | D5: 0 | F5: 2 | G5: 256 | H5: 0
B6: Food | C6: 1276.3 | D6: 0 | F6: 3 | G6: 275 | H6: 0
B7: Travel | C7: 4090.2 | D7: 0 | F7: 4 | G7: 432 | H7: 0
B8: (blank) | C8: 0 | D8: 0 | F8: 5 | G8: 294 | H8: 0
B9: Grand Total | C9: 7517.5 | D9: 0 | F9: 6 | G9: 323.6 | H9: 0
F10: 7 | G10: 213 | H10: 0
F11: 8 | G11: 306 | H11: 0
F12: 9 | G12: 245 | H12: 0
F13: 10 | G13: 226 | H13: 0
F14: 11 | G14: 305 | H14: 0
F15: 12 | G15: 260.6 | H15: 0
F16: 13 | G16: 208.3 | H16: 0
F17: 14 | G17: 202 | H17: 0
F18: 15 | G18: 374 | H18: 0
F19: 16 | G19: 42 | H19: 0
F20: Grand Total | G20: 7517.5 | H20: 0
