Workbook

Sheet Itinerary
A1: Date | B1: Time | C1: Departure/Arrival | D1: Location | E1: Duration | F1: Accomodation
A2: Day 1 | B2: 0.76736111 | C2: Departure | D2: Vancouver
A3: Day 2 | B3: 0.55208333 | C3: Arrival | D3: Munich
A4: Day 2 | B4: 0.63194444 | C4: Departure | D4: Munich
A5: Day 2 | B5: 0.69791667 | C5: Arrival | D5: Naples
A6: Day 3
A7: Day 3
A8: Day 4
A9: Day 5
A10: Day 6
A11: Day 7
A12: Day 8 | B12: 0.52083333 | C12: Departure | D12: Naples
A13: Day 8 | B13: 0.61458333 | C13: Arrival | D13: Lisbon
A14: Day 9
A15: Day 10
A16: Day 11
A17: Day 12
A18: Day 13
A19: Day 14
A20: Day 15
A21: Day 16 | B21: 0.28125 | C21: Departure | D21: Lisbon
A22: Day 16 | B22: 0.44444444 | C22: Arrival | D22: Frankfurt
A23: Day 16 | B23: 0.55555556 | C23: Departure | D23: Frankfurt
A24: Day 16 | B24: 0.59375 | C24: Arrival | D24: Vancouver

Sheet Italy
B1: $CAD
A2: Budget | B2: 6500
A3: Total Vacation Cost (Activities + Food) | B3: =I143 -> 6321.78
A4: $ Available | B4: =B2-B3 -> 178.22
A5: $ Actual Spent | B5: =K143 -> 0
A7: Day | B7: Date | C7: Time | D7: Activity | E7: Category | F7: Travel Time | G7: Transit | H7: Budget Cost (Euro) | I7: Budget Cost ($CAD) | J7: Actual Cost (Euro) | K7: Actual Cost ($CAD) | L7: Notes
A8: 1 | B8: 44834 | C8: 0.33333333 | I8: =Italy!$H8*1.38 -> 0 | K8: =Italy!$J8*1.38 -> 0
A9: =$A$8 -> 1 | B9: =B8 -> 44834 | C9: 0.375 | I9: =Italy!$H9*1.38 -> 0 | K9: =Italy!$J9*1.38 -> 0
A10: =$A$8 -> 1 | B10: =B9 -> 44834 | C10: 0.41666667 | I10: =Italy!$H10*1.38 -> 0 | K10: =Italy!$J10*1.38 -> 0
A11: =$A$8 -> 1 | B11: =B10 -> 44834 | C11: 0.45833333 | I11: =Italy!$H11*1.38 -> 0 | K11: =Italy!$J11*1.38 -> 0
A12: =$A$8 -> 1 | B12: =B11 -> 44834 | C12: 0.5 | I12: =Italy!$H12*1.38 -> 0 | K12: =Italy!$J12*1.38 -> 0
A13: =$A$8 -> 1 | B13: =B12 -> 44834 | C13: 0.54166667 | I13: =Italy!$H13*1.38 -> 0 | K13: =Italy!$J13*1.38 -> 0
A14: =$A$8 -> 1 | B14: =B13 -> 44834 | C14: 0.58333333 | I14: =Italy!$H14*1.38 -> 0 | K14: =Italy!$J14*1.38 -> 0
A15: =$A$8 -> 1 | B15: =B14 -> 44834 | C15: 0.625 | I15: =Italy!$H15*1.38 -> 0 | K15: =Italy!$J15*1.38 -> 0
A16: =$A$8 -> 1 | B16: =B15 -> 44834 | C16: 0.66666667 | I16: =Italy!$H16*1.38 -> 0 | K16: =Italy!$J16*1.38 -> 0
A17: =$A$8 -> 1 | B17: =B16 -> 44834 | C17: 0.70833333 | D17: Dinner (Airport) | E17: Food | H17: 20 | I17: =Italy!$H17*1.38 -> 27.6 | K17: =Italy!$J17*1.38 -> 0
A18: =$A$8 -> 1 | B18: =B17 -> 44834 | C18: 0.75 | D18: Flight Vancouver --> Munich --> Naples | E18: Travel | H18: 1800 | I18: =Italy!$H18*1.38 -> 2484 | K18: =Italy!$J18*1.38 -> 0
A19: =$A$8 -> 1 | B19: =B18 -> 44834 | C19: 0.79166667 | I19: =Italy!$H19*1.38 -> 0 | K19: =Italy!$J19*1.38 -> 0
A20: =$A$8 -> 1 | B20: =B19 -> 44834 | C20: 0.83333333 | I20: =Italy!$H20*1.38 -> 0 | K20: =Italy!$J20*1.38 -> 0
A21: =$A$8 -> 1 | B21: =B20 -> 44834 | C21: 0.875 | I21: =Italy!$H21*1.38 -> 0 | K21: =Italy!$J21*1.38 -> 0
A22: =$A$8 -> 1 | B22: =B21 -> 44834 | C22: 0.91666667 | I22: =Italy!$H22*1.38 -> 0 | K22: =Italy!$J22*1.38 -> 0
A23: =$A$8+1 -> 2 | B23: =B8+1 -> 44835 | C23: 0.33333333 | I23: =Italy!$H23*1.38 -> 0 | K23: =Italy!$J23*1.38 -> 0
A24: =$A$8+1 -> 2 | B24: =B23 -> 44835 | C24: 0.375 | I24: =Italy!$H24*1.38 -> 0 | K24: =Italy!$J24*1.38 -> 0
A25: =$A$8+1 -> 2 | B25: =B24 -> 44835 | C25: 0.41666667 | I25: =Italy!$H25*1.38 -> 0 | K25: =Italy!$J25*1.38 -> 0
A26: =$A$8+1 -> 2 | B26: =B25 -> 44835 | C26: 0.45833333 | I26: =Italy!$H26*1.38 -> 0 | K26: =Italy!$J26*1.38 -> 0
A27: =$A$8+1 -> 2 | B27: =B26 -> 44835 | C27: 0.5 | I27: =Italy!$H27*1.38 -> 0 | K27: =Italy!$J27*1.38 -> 0
A28: =$A$8+1 -> 2 | B28: =B27 -> 44835 | C28: 0.54166667 | I28: =Italy!$H28*1.38 -> 0 | K28: =Italy!$J28*1.38 -> 0
A29: =$A$8+1 -> 2 | B29: =B28 -> 44835 | C29: 0.58333333 | I29: =Italy!$H29*1.38 -> 0 | K29: =Italy!$J29*1.38 -> 0
A30: =$A$8+1 -> 2 | B30: =B29 -> 44835 | C30: 0.625 | I30: =Italy!$H30*1.38 -> 0 | K30: =Italy!$J30*1.38 -> 0
A31: =$A$8+1 -> 2 | B31: =B30 -> 44835 | C31: 0.66666667 | D31: Arrive at Naples International Airport | E31: Travel | H31: 0 | I31: =Italy!$H31*1.38 -> 0 | K31: =Italy!$J31*1.38 -> 0
A32: =$A$8+1 -> 2 | B32: =B31 -> 44835 | C32: 0.70833333 | D32: Pick-up car | E32: Car | H32: 750 | I32: =Italy!$H32*1.38 -> 1035 | K32: =Italy!$J32*1.38 -> 0
A33: =$A$8+1 -> 2 | B33: =B32 -> 44835 | C33: 0.75 | D33: Check in Airbnb | E33: Accomodation | F33: 52min drive | H33: 0 | I33: =Italy!$H33*1.38 -> 0 | K33: =Italy!$J33*1.38 -> 0
A34: =$A$8+1 -> 2 | B34: =B33 -> 44835 | C34: 0.79166667 | D34: Dinner (La Baita 8pm-12am, Closed Mondays) | E34: Food | F34: 2min drive | H34: 30 | I34: =Italy!$H34*1.38 -> 41.4 | K34: =Italy!$J34*1.38 -> 0
A35: =$A$8+1 -> 2 | B35: =B34 -> 44835 | C35: 0.83333333 | I35: =Italy!$H35*1.38 -> 0 | K35: =Italy!$J35*1.38 -> 0
A36: =$A$8+1 -> 2 | B36: =B35 -> 44835 | C36: 0.875 | D36: Airbnb | E36: Accomodation | F36: 2min drive | H36: 100 | I36: =Italy!$H36*1.38 -> 138 | K36: =Italy!$J36*1.38 -> 0 | L36: Località Borrello, Cava de' Tirreni, Campania 84013, Italy
A37: =$A$8+1 -> 2 | B37: =B36 -> 44835 | C37: 0.91666667 | D37: Parking/Tolls | E37: Car | H37: 3 | I37: =Italy!$H37*1.38 -> 4.14 | K37: =Italy!$J37*1.38 -> 0
A38: =$A$8+2 -> 3 | B38: =B23+1 -> 44836 | C38: 0.33333333 | I38: =Italy!$H38*1.38 -> 0 | K38: =Italy!$J38*1.38 -> 0
A39: =$A$8+2 -> 3 | B39: =B38 -> 44836 | C39: 0.375 | D39: Castello di Arechi (9am-3pm, Closed Mondays) | E39: Activity | F39: 17min drive | H39: =4*2 -> 8 | I39: =Italy!$H39*1.38 -> 11.04 | K39: =Italy!$J39*1.38 -> 0
A40: =$A$8+2 -> 3 | B40: =B39 -> 44836 | C40: 0.41666667 | I40: =Italy!$H40*1.38 -> 0 | K40: =Italy!$J40*1.38 -> 0
A41: =$A$8+2 -> 3 | B41: =B40 -> 44836 | C41: 0.45833333 | I41: =Italy!$H41*1.38 -> 0 | K41: =Italy!$J41*1.38 -> 0
...

Sheet Portugal
B1: $CAD
A2: Budget | B2: 3500
A3: Total Vacation Cost (Activities + Food) | B3: =H138 -> 3281.985
A4: $ Available | B4: =B2-B3 -> 218.015
A5: $ Actual Spent | B5: =J138 -> 0
A7: Day | B7: Date | C7: Time | D7: Activity | E7: Category | F7: Travel Time | G7: Budget Cost (Euro) | H7: Budget Cost ($CAD) | I7: Actual Cost (Euro) | J7: Actual Cost ($CAD) | K7: Notes
A8: 1 | B8: =B18-1 -> 44842 | C8: 0.58333333 | D8: Arrive in Lisbon | E8: Travel | H8: =G8*1.38 -> 0 | J8: =I8*1.38 -> 0 | K8: Buy 72hour Lisboa Card
A9: 1 | B9: =B8 -> 44842 | C9: 0.625 | D9: Wander Barrio Alto Neighbourhood (Check in at Hotel earliest 3pm) | E9: Activity | F9: 1h 2min transit | G9: 0 | H9: =G9*1.38 -> 0 | J9: =I9*1.38 -> 0
A10: 1 | B10: =B9 -> 44842 | C10: 0.66666667 | D10: Carmo Convent Ruins (10am-7pm, Closed Sundays) | E10: Travel | F10: 19min walk | G10: =5*2*0.8 -> 8 | H10: =G10*1.38 -> 11.04 | J10: =I10*1.38 -> 0 | K10: 20% discount with Lisboa Card
A11: 1 | B11: =B10 -> 44842 | C11: 0.70833333 | D11: Santa Justa Lift (7am-10:45pm) | E11: Activity | F11: 5min walk | G11: 0 | H11: =G11*1.38 -> 0 | J11: =I11*1.38 -> 0 | K11: Included with Lisboa Card
A12: 1 | B12: =B11 -> 44842 | C12: 0.75 | D12: Dinner (Leve Leve - Tapas Bar 1pm-12am, Closed Sundays) | E12: Food | F12: 11min walk | G12: 30 | H12: =G12*1.38 -> 41.4 | J12: =I12*1.38 -> 0
A13: 1 | B13: =B12 -> 44842 | C13: 0.79166667 | D13: Fado Show starts at 8:30 pm (Tasca do Chico on Rua do Loreto 2 7pm-2am) | E13: Activity | F13: 3min walk | G13: 10 | H13: =G13*1.38 -> 13.8 | J13: =I13*1.38 -> 0
A14: 1 | B14: =B13 -> 44842 | C14: 0.83333333 | D14: Dessert at Manteigaria (8am-12am) | E14: Food | F14: 2min walk | G14: 3 | H14: =G14*1.38 -> 4.14 | J14: =I14*1.38 -> 0
A15: 1 | B15: =B14 -> 44842 | C15: 0.85416667 | H15: =G15*1.38 -> 0 | J15: =I15*1.38 -> 0
A16: 1 | B16: =B14 -> 44842 | C16: 0.875 | D16: Hotel (Lisbon) | E16: Accomodation | F16: 15min walk | G16: 100 | H16: =G16*1.38 -> 138 | J16: =I16*1.38 -> 0 | K16: Casas de Sao Bento, Rua Correia Garcao, 3 Lisbon, 1200-640, Portugal; 8 euros for Lisbon Tax
A17: 1 | B17: =B16 -> 44842 | C17: 0.91666667 | D17: Transit (72hour Lisboa Card) | E17: Travel | G17: =44*2 -> 88 | H17: =G17*1.38 -> 121.44 | J17: =I17*1.38 -> 0 | K17: https://www.golisbon.com/Lisboa-Card/LisboaCard.pdf
A18: 2 | B18: 44843 | C18: 0.33333333 | H18: =Portugal!$G18*1.38 -> 0 | J18: =Portugal!$I18*1.38 -> 0
A19: =$A$18 -> 2 | B19: =B18 -> 44843 | C19: 0.375 | D19: Breakfast Pasteis de Belem (8am-10pm) (Snack Pastel de Nata) | E19: Food | F19: 22min transit | G19: 10 | H19: =Portugal!$G19*1.38 -> 13.8 | J19: =Portugal!$I19*1.38 -> 0
A20: =$A$18 -> 2 | B20: =B19 -> 44843 | C20: 0.41666667 | D20: Padrao dos Descobrimentos --> Belem Tower (10am-5:30pm, Closed Monday) (10min walk) | E20: Activity | F20: 10min walk | G20: 0 | H20: =Portugal!$G20*1.38 -> 0 | J20: =Portugal!$I20*1.38 -> 0 | K20: Included with Lisboa Card; without 6 euros/person
A21: =$A$18 -> 2 | B21: =B20 -> 44843 | C21: 0.45833333 | D21: Monastery of San Jeronimo (10am-5pm, Closed Monday) --> Palacio Nacional da Ajuda (10am-5pm, Closed Monday, Thursday) (23min walk) | E21: Activity | F21: 14min walk | G21: 0 | H21: =Portugal!$G21*1.38 -> 0 | J21: =Portugal!$I21*1.38 -> 0 | K21: Included with Lisboa Card; without 10 euros/person Monastery and 5 euros/person Palace
A22: =$A$18 -> 2 | B22: =B21 -> 44843 | C22: 0.5 | D22: LX Factory (9am-10:30pm) (Visit Ler Devagar, Pequeno Jardim, Sunday Market, and Street Art) | E22: Activity | F22: 12min transit | G22: 0 | H22: =Portugal!$G22*1.38 -> 0 | J22: =Portugal!$I22*1.38 -> 0
A23: =$A$18 -> 2 | B23: =B22 -> 44843 | C23: 0.54166667 | D23: Lunch Central da Avenida at LX Factory | E23: Food | F23: 19min transit | G23: 35 | H23: =Portugal!$G23*1.38 -> 48.3 | J23: =Portugal!$I23*1.38 -> 0
A24: =$A$18 -> 2 | B24: =B23 -> 44843 | C24: 0.58333333 | D24: Ginjinja Sem Rival (8am-12am) (3min walk) | E24: Activity | F24: 9min transit | G24: 5 | H24: =Portugal!$G24*1.38 -> 6.9 | J24: =Portugal!$I24*1.38 -> 0
A25: =$A$18 -> 2 | B25: =B24 -> 44843 | C25: 0.625 | D25: Santa Engracia National Pantheon (10am-6pm, Closed Monday) | E25: Activity | F25: 17min transit | G25: 0 | H25: =Portugal!$G25*1.38 -> 0 | J25: =Portugal!$I25*1.38 -> 0 | K25: Included with Lisboa Card; without 3 euros/person
A26: =$A$18 -> 2 | B26: =B25 -> 44843 | C26: 0.66666667 | D26: Miraouro das Portas do Sol --> Sao Jorge Castle (9am-9pm)(4min walk) | E26: Activity | F26: 10min walk | G26: 20 | H26: =Portugal!$G26*1.38 -> 27.6 | J26: =Portugal!$I26*1.38 -> 0
A27: =$A$18 -> 2 | B27: =B26 -> 44843 | C27: 0.70833333 | D27: Se Cathedral (Lisbon Cathedral 7am-7pm, Cloister and Treasury Closed Sunday) --> Praca do Commercio (7min walk) --> Arco da Rua Augusta (9am-7pm) (2min walk) | E27: Activity | F27: 8min walk | G27: 0 | H27: =Portugal!$G27*1.38 -> 0 | J27: =Portugal!$I27*1.38 -> 0 | K27: Included with Lisboa Card; without Arco Da Rua August 3 euros/person
A28: =$A$18 -> 2 | B28: =B27 -> 44843 | C28: 0.75 | D28: Dinner Cervejaria Ramiro (12pm-12am, Closed Monday) | E28: Food | F28: 9min transit | G28: 100 | H28: =Portugal!$G28*1.38 -> 138 | J28: =Portugal!$I28*1.38 -> 0
A29: =$A$18 -> 2 | B29: =B28 -> 44843 | C29: 0.79166667 | D29: Ice cream at Nannarella (12pm-12am) | E29: Food | F29: 25min transit | G29: 10 | H29: =Portugal!$G29*1.38 -> 13.8 | J29: =Portugal!$I29*1.38 -> 0
A30: =$A$18 -> 2 | B30: =B29 -> 44843 | C30: 0.83333333 | H30: =Portugal!$G30*1.38 -> 0 | J30: =Portugal!$I30*1.38 -> 0
A31: =$A$18 -> 2 | B31: =B30 -> 44843 | C31: 0.875 | D31: Hotel (Lisbon) | E31: Accomodation | F31: 3min walk | G31: 100 | H31: =Portugal!$G31*1.38 -> 138 | J31: =Portugal!$I31*1.38 -> 0 | K31: Casas de Sao Bento, Rua Correia Garcao, 3 Lisbon, 1200-640, Portugal
A32: =$A$18 -> 2 | B32: =B31 -> 44843 | C32: 0.91666667 | D32: Transit (72hour Lisboa Card) | E32: Travel | G32: 0 | H32: =Portugal!$G32*1.38 -> 0 | J32: =Portugal!$I32*1.38 -> 0
A33: =$A$18+1 -> 3 | B33: =B18+1 -> 44844 | C33: 0.33333333 | D33: Breakfast Bifana (O Trevo 7am - 9pm, Closed Sunday) | E33: Food | F33: 14min walk | G33: 10 | H33: =Portugal!$G33*1.38 -> 13.8 | J33: =Portugal!$I33*1.38 -> 0
A34: =$A$18+1 -> 3 | B34: =B33 -> 44844 | C34: 0.375 | D34: Head to Sintra Station (Drop off bags at Hotel) | E34: Travel | F34: 49min transit | G34: 0 | H34: =Portugal!$G34*1.38 -> 0 | J34: =Portugal!$I34*1.38 -> 0 | K34: Included in Lisboa Card
A35: =$A$18+1 -> 3 | B35: =B34 -> 44844 | C35: 0.41666667 | D35: Quinta de Regaleira (10am-5:30pm) | E35: Activity | F35: 10min transit | G35: 20 | H35: =Portugal!$G35*1.38 -> 27.6 | J35: =Portugal!$I35*1.38 -> 0 | K35: Take Bus 435 (Hop on/off round trip option). 20% discount with Lisboa Card, without 9 euros/person
A36: =$A$18+1 -> 3 | B36: =B35 -> 44844 | C36: 0.45833333 | D36: Palacio de Monserrate (9am-6:30pm) --> Palacio Nacional de Sintra (16min transit) | E36: Activity | F36: 6min transit | G36: =8*2-4 -> 12 | H36: =Portugal!$G36*1.38 -> 16.56 | J36: =Portugal!$I36*1.38 -> 0 | K36: Take Bus 435. 2 euros discount with Lisboa Card, without 8 euros/person
A37: =$A$18+1 -> 3 | B37: =B36 -> 44844 | C37: 0.5 | D37: Lunch in Sintra (Cantinho Gourmet 11am-9pm) | E37: Food | F37: 7min walk | G37: 25 | H37: =Portugal!$G37*1.38 -> 34.5 | J37: =Portugal!$I37*1.38 -> 0
A38: =$A$18+1 -> 3 | B38: =B37 -> 44844 | C38: 0.54166667 | D38: Casa Piriquita (Snack: Travesseiro and Queijada de Sintra!) (9:30am-7pm) | E38: Food | F38: 2min walk | G38: 3 | H38: =Portugal!$G38*1.38 -> 4.14 | J38: =Portugal!$I38*1.38 -> 0
A39: =$A$18+1 -> 3 | B39: =B38 -> 44844 | C39: 0.58333333 | D39: Castelos dos Mouros (9:30am-6pm) | E39: Activity | F39: 5min transit | G39: =8*2-4 -> 12 | H39: =Portugal!$G39*1.38 -> 16.56 | J39: =Portugal!$I39*1.38 -> 0 | K39: Take Bus 434. 2 euros discount with Lisboa Card, without 8 euros/person
A40: =$A$18+1 -> 3 | B40: =B39 -> 44844 | C40: 0.625 | H40: =Portugal!$G40*1.38 -> 0 | J40: =Portugal!$I40*1.38 -> 0
A41: =$A$18+1 -> 3 | B41: =B40 -> 44844 | C41: 0.66666667 | D41: Pena Palace (9am-6pm) --> Sintra Station (15min transit) | E41: Activity | F41: 5min transit | G41: =14*2-4 -> 24 | H41: =Portugal!$G41*1.38 -> 33.12 | J41: =Portugal!$I41*1.38 -> 0 | K41: Take Bus 434. 2 euros discount with Lisboa Card, without 14 euros/person
...

Sheet Pivot Table 1
A2: Italy
B3: Category | C3: SUM of Budget Cost ($CAD) | D3: SUM of Actual Cost ($CAD) | F3: Day | G3: Sum of Budget Cost ($CAD) | H3: Sum of Actual Cost ($CAD)
B4: Accomodation | C4: 966 | D4: 0 | F4: 1 | G4: 2511.6 | H4: 0
B5: Activity | C5: 207 | D5: 0 | F5: 2 | G5: 1218.54 | H5: 0
B6: Car | C6: 1388.28 | D6: 0 | F6: 3 | G6: 274.62 | H6: 0
B7: Food | C7: 652.74 | D7: 0 | F7: 4 | G7: 241.5 | H7: 0
B8: Travel | C8: 3107.76 | D8: 0 | F8: 5 | G8: 342.24 | H8: 0
B9: (blank) | C9: 0 | D9: 0 | F9: 6 | G9: 372.6 | H9: 0
B10: Grand Total | C10: 6321.78 | D10: 0 | F10: 7 | G10: 373.98 | H10: 0
F11: 8 | G11: 361.56 | H11: 0
F12: 9 | G12: 625.14 | H12: 0
F13: Grand Total | G13: 6321.78 | H13: 0
A20: Portugal
B21: Category | C21: SUM of Budget Cost ($CAD) | D21: SUM of Actual Cost ($CAD) | F21: Day | G21: Sum of Budget Cost ($CAD) | H21: Sum of Actual Cost ($CAD)
B22: Accomodation | C22: 1048.8 | D22: 0 | F22: 1 | G22: 329.82 | H22: 0
B23: Activity | C23: 761.415 | D23: 0 | F23: 2 | G23: 386.4 | H23: 0
B24: Food | C24: 975.66 | D24: 0 | F24: 3 | G24: 373.98 | H24: 0
B25: Travel | C25: 496.11 | D25: 0 | F25: 4 | G25: 500.25 | H25: 0
B26: (blank) | C26: 0 | D26: 0 | F26: 5 | G26: 330.855 | H26: 0
B27: Grand Total | C27: 3281.985 | D27: 0 | F27: 6 | G27: 510.6 | H27: 0
F28: 7 | G28: 415.38 | H28: 0
F29: 8 | G29: 400.2 | H29: 0
F30: 9 | G30: 34.5 | H30: 0
F31: Grand Total | G31: 3281.985 | H31: 0
