Workbook

Sheet Itinerary
A1: Date | B1: Time | C1: Departure/Arrival | D1: Location | E1: Check-in | F1: Check-out | G1: Accomodation
A2: Day 0 | C2: Departure
A3: Day 0 | C3: Arrival | D3: San Jose
A4: Day 0 | C4: Overnight Trip | D4: San Jose
A5: Day 1 | C5: Overnight Trip | D5: San Jose
A6: Day 2 | C6: Overnight Trip | D6: La Fortuna
A7: Day 3 | C7: Overnight Trip | D7: Monteverde
A8: Day 4 | C8: Overnight Trip | D8: Manuel Antonio
A9: Day 5 | C9: Overnight Trip | D9: Manuel Antonio
A10: Day 6 | C10: Overnight Trip | D10: San Jose
A11: Day 7 | C11: Departure | D11: San Jose
A12: Day 7 | C12: Overnight Trip | D12: Mexico City
A13: Day 8 | C13: Arrival

Sheet Costa Rica
B1: $CAD
A2: Budget | B2: 6000
A3: Total Forecast (Activities + Food) | B3: =H123 -> 5411.3
A4: $ Available | B4: =B2-B3 -> 588.7
A5: $ Actual Spent | B5: =J123 -> 0
G6: *For 2 people
A7: Day | B7: Date | C7: Time | D7: Activity | E7: Category | F7: Travel Time | G7: Forecast Cost (CRC) | H7: Forecast Cost ($CAD) | I7: Actual Cost (CRC) | J7: Actual Cost ($CAD) | K7: Notes
A8: 0 | B8: Day 0 | C8: 0.33333333 | D8: Travel to San Jose | E8: Travel | G8: 800000 | H8: ='Costa Rica'!$G8*0.0026 -> 2080 | J8: =Table_1[[#This Row],[Actual Cost (CRC)]]*0.0026 -> 0
A9: =$A$8 -> 0 | B9: =B8 -> Day 0 | C9: 0.375 | D9: Sim Card x 2 | E9: Travel | G9: =10000*2 -> 20000 | H9: ='Costa Rica'!$G9*0.0026 -> 52 | J9: ='Costa Rica'!$I9*0.0026 -> 0
A10: =$A$8 -> 0 | B10: =B9 -> Day 0 | C10: 0.41666667 | H10: ='Costa Rica'!$G10*0.0026 -> 0 | J10: ='Costa Rica'!$I10*0.0026 -> 0
A11: =$A$8 -> 0 | B11: =B10 -> Day 0 | C11: 0.45833333 | H11: ='Costa Rica'!$G11*0.0026 -> 0 | J11: ='Costa Rica'!$I11*0.0026 -> 0
A12: =$A$8 -> 0 | B12: =B11 -> Day 0 | C12: 0.5 | H12: ='Costa Rica'!$G12*0.0026 -> 0 | J12: ='Costa Rica'!$I12*0.0026 -> 0
A13: =$A$8 -> 0 | B13: =B12 -> Day 0 | C13: 0.54166667 | H13: ='Costa Rica'!$G13*0.0026 -> 0 | J13: ='Costa Rica'!$I13*0.0026 -> 0
A14: =$A$8 -> 0 | B14: =B13 -> Day 0 | C14: 0.58333333 | H14: ='Costa Rica'!$G14*0.0026 -> 0 | J14: ='Costa Rica'!$I14*0.0026 -> 0
A15: =$A$8 -> 0 | B15: =B14 -> Day 0 | C15: 0.625 | H15: ='Costa Rica'!$G15*0.0026 -> 0
A16: =$A$8 -> 0 | B16: =B15 -> Day 0 | C16: 0.66666667 | H16: ='Costa Rica'!$G16*0.0026 -> 0 | J16: ='Costa Rica'!$I16*0.0026 -> 0
A17: =$A$8 -> 0 | B17: =B16 -> Day 0 | C17: 0.70833333 | D17: Dinner at Mexico Airport (Salute Food & Bar) | E17: Food | G17: 8000 | H17: ='Costa Rica'!$G17*0.0026 -> 20.8 | J17: ='Costa Rica'!$I17*0.0026 -> 0
A18: =$A$8 -> 0 | B18: =B17 -> Day 0 | C18: 0.75 | H18: ='Costa Rica'!$G18*0.0026 -> 0 | J18: ='Costa Rica'!$I18*0.0026 -> 0
A19: =$A$8 -> 0 | B19: =B18 -> Day 0 | C19: 0.79166667 | H19: ='Costa Rica'!$G19*0.0026 -> 0 | J19: ='Costa Rica'!$I19*0.0026 -> 0
A20: =$A$8 -> 0 | B20: =B19 -> Day 0 | C20: 0 | D20: Arrive in San Jose | E20: Travel | G20: 0 | H20: ='Costa Rica'!$G20*0.0026 -> 0 | J20: ='Costa Rica'!$I20*0.0026 -> 0
A21: =$A$8 -> 0 | B21: =B20 -> Day 0 | C21: 0 | D21: Taxi to Hotel | E21: Travel | G21: 20000 | H21: ='Costa Rica'!$G21*0.0026 -> 52 | J21: ='Costa Rica'!$I21*0.0026 -> 0
A22: =$A$8 -> 0 | B22: =B21 -> Day 0 | C22: 0 | D22: Hotel | E22: Accomodation | G22: 40000 | H22: ='Costa Rica'!$G22*0.0026 -> 104 | J22: =Table_1[[#This Row],[Actual Cost (CRC)]]*0.0026 -> 0
A23: 1 | B23: Day 1 | C23: 0.33333333 | D23: Breakfast | E23: Food | G23: 8000 | H23: ='Costa Rica'!$G23*0.0026 -> 20.8 | J23: =Table_1[[#This Row],[Actual Cost (CRC)]]*0.0026 -> 0
A24: =A23 -> 1 | B24: =B23 -> Day 1 | C24: 0.375 | D24: Taxi to La Paz Waterfalls Garden Nature Park | E24: Travel | F24: 1h 23 minute taxi | G24: 20000 | H24: ='Costa Rica'!$G24*0.0026 -> 52 | J24: ='Costa Rica'!$I24*0.0026 -> 0
A25: =$A$8+1 -> 1 | B25: =B24 -> Day 1 | C25: 0.41666667 | D25: La Paz Waterfalls Gardens Nature Park (8am-5pm) | E25: Activity | G25: =26000*2 -> 52000 | H25: ='Costa Rica'!$G25*0.0026 -> 135.2 | J25: ='Costa Rica'!$I25*0.0026 -> 0
A26: =$A$8+1 -> 1 | B26: =B25 -> Day 1 | C26: 0.45833333 | H26: ='Costa Rica'!$G26*0.0026 -> 0 | J26: ='Costa Rica'!$I26*0.0026 -> 0
A27: =$A$8+1 -> 1 | B27: =B26 -> Day 1 | C27: 0.5 | H27: ='Costa Rica'!$G27*0.0026 -> 0 | J27: ='Costa Rica'!$I27*0.0026 -> 0
A28: =$A$8+1 -> 1 | B28: =B27 -> Day 1 | C28: 0.54166667 | H28: ='Costa Rica'!$G28*0.0026 -> 0 | J28: ='Costa Rica'!$I28*0.0026 -> 0
A29: =$A$8+1 -> 1 | B29: =B28 -> Day 1 | C29: 0.58333333 | D29: Taxi to Downtown San Jose | E29: Travel | F29: 1h 30 minute taxi | G29: 20000 | H29: ='Costa Rica'!$G29*0.0026 -> 52 | J29: ='Costa Rica'!$I29*0.0026 -> 0
A30: =$A$8+1 -> 1 | B30: =B29 -> Day 1 | C30: 0.625 | D30: Lunch Restaurante Nuestra Tierra (7am-10pm/12am depending on the day) | E30: Food | G30: 25000 | H30: ='Costa Rica'!$G30*0.0026 -> 65 | J30: ='Costa Rica'!$I30*0.0026 -> 0
A31: =$A$8+1 -> 1 | B31: =B30 -> Day 1 | C31: 0.66666667 | D31: Wander Downtown San Jose | E31: Activity | G31: 0 | H31: ='Costa Rica'!$G31*0.0026 -> 0 | J31: ='Costa Rica'!$I31*0.0026 -> 0
A32: =$A$8+1 -> 1 | B32: =B31 -> Day 1 | C32: 0.70833333 | H32: ='Costa Rica'!$G32*0.0026 -> 0 | J32: ='Costa Rica'!$I32*0.0026 -> 0
A33: =$A$8+1 -> 1 | B33: =B32 -> Day 1 | C33: 0.75 | D33: Dinner | E33: Food | G33: 20000 | H33: ='Costa Rica'!$G33*0.0026 -> 52 | J33: ='Costa Rica'!$I33*0.0026 -> 0
A34: =$A$8+1 -> 1 | B34: =B33 -> Day 1 | C34: 0.79166667 | H34: ='Costa Rica'!$G34*0.0026 -> 0 | J34: ='Costa Rica'!$I34*0.0026 -> 0
A35: =$A$8+1 -> 1 | B35: =B34 -> Day 1 | C35: 0.83333333 | H35: ='Costa Rica'!$G35*0.0026 -> 0 | J35: ='Costa Rica'!$I35*0.0026 -> 0
A36: =$A$8+1 -> 1 | B36: =B35 -> Day 1 | C36: 0.875 | H36: ='Costa Rica'!$G36*0.0026 -> 0 | J36: ='Costa Rica'!$I36*0.0026 -> 0
A37: 1 | B37: =B36 -> Day 1 | C37: 0.91666667 | D37: Hotel | E37: Accomodation | G37: 40000 | H37: ='Costa Rica'!$G37*0.0026 -> 104 | J37: =Table_1[[#This Row],[Actual Cost (CRC)]]*0.0026 -> 0
A38: 2 | B38: Day 2 | C38: 0.22916667 | D38: Breakfast | E38: Food | G38: 8000 | H38: ='Costa Rica'!$G38*0.0026 -> 20.8 | J38: =Table_1[[#This Row],[Actual Cost (CRC)]]*0.0026 -> 0
A39: =A38 -> 2 | B39: =B38 -> Day 2 | C39: 0.25 | J39: ='Costa Rica'!$I39*0.0026 -> 0
A40: =A39 -> 2 | B40: =B38 -> Day 2 | C40: 0.27083333 | D40: Arenal Volcano Experience Full Day Tour from San Jose (Pick-up from Hotel at 6:20am) | E40: Activity | G40: =H40/0.0026 -> 166338.46 | H40: =432.48 -> 432.48 | J40: ='Costa Rica'!$I40*0.0026 -> 0 | K40: https://www.viator.com/en-CA/tours/San-Jose/Arenal-Volcano-Experience-Full-Day-tour-from-San-Jose/d793-62880P6
...

Sheet Pivot Table 1
A2: Costa Rica
B3: Category | C3: SUM of Budget Cost ($CAD) | D3: SUM of Actual Cost ($CAD) | F3: Day | G3: Sum of Budget Cost ($CAD) | H3: Sum of Actual Cost ($CAD)
B4: Accomodation | C4: 728 | D4: 0 | F4: 0 | G4: 2308.8 | H4: 0
B5: Activity | C5: 949.44 | D5: 0 | F5: 1 | G5: 481 | H5: 0
B6: Activity | C6: 135.2 | D6: 0 | F6: 2 | G6: 609.28 | H6: 0
B7: Food | C7: 634.4 | D7: 0 | F7: 3 | G7: 542.36 | H7: 0
B8: Travel | C8: 2964.26 | D8: 0 | F8: 4 | G8: 641.88 | H8: 0
B9: (blank) | C9: 0 | D9: 0 | F9: 5 | G9: 380.78 | H9: 0
B10: Grand Total | C10: 5411.3 | D10: 0 | F10: 6 | G10: 426.4 | H10: 0
F11: 7 | G11: 20.8 | H11: 0
F12: Grand Total | G12: 5411.3 | H12: 0
