Workbook

Sheet Itinerary
A1: Date | B1: Time | C1: Departure/Arrival | D1: Location | E1: Check-in | F1: Check-out | G1: Accomodation
A2: Day 0 | C2: Departure
A3: Day 0 | C3: Arrival | D3: San Jose
A4: Day 0 | C4: Overnight Trip | D4: San Jose
A5: Day 1 | C5: Overnight Trip | D5: San Jose
A6: Day 2 | C6: Overnight Trip | D6: La Fortuna
A7: Day 3 | C7: Overnight Trip | D7: Monteverde
A8: Day 4 | C8: Overnight Trip | D8: Manuel Antonio
A9: Day 5 | C9: Overnight Trip | D9: Manuel Antonio
A10: Day 6 | C10: Overnight Trip | D10: San Jose
A11: Day 7 | C11: Departure | D11: San Jose
A12: Day 7 | C12: Overnight Trip | D12: Mexico City
A13: Day 8 | C13: Arrival

Sheet Costa Rica
B1: $CAD
A2: Budget | B2: 6000
A3: Total Forecast (Activities + Food) | B3: =H123 -> 5411.3
A4: $ Available | B4: =B2-B3 -> 588.7
A5: $ Actual Spent | B5: =J123 -> 0
G6: *For 2 people
A7: Day | B7: Date | C7: Time | D7: Activity | E7: Category | F7: Travel Time | G7: Forecast Cost (CRC) | H7: Forecast Cost ($CAD) | I7: Actual Cost (CRC) | J7: Actual Cost ($CAD) | K7: Notes
A8: 0 | B8: Day 0 | C8: 0.33333333 | D8: Travel to San Jose | E8: Travel | G8: 800000 | H8: ='Costa Rica'!$G8*0.0026 -> 2080 | J8: =Table_1[[#This Row],[Actual Cost (CRC)]]*0.0026 -> 0
A9: =$A$8 -> 0 | B9: =B8 -> Day 0 | C9: 0.375 | D9: Sim Card x 2 | E9: Travel | G9: =10000*2 -> 20000 | H9: ='Costa Rica'!$G9*0.0026 -> 52 | J9: ='Costa Rica'!$I9*0.0026 -> 0
A10: =$A$8 -> 0 | B10: =B9 -> Day 0 | C10: 0.41666667 | H10: ='Costa Rica'!$G10*0.0026 -> 0 | J10: ='Costa Rica'!$I10*0.0026 -> 0
A11: =$A$8 -> 0 | B11: =B10 -> Day 0 | C11: 0.45833333 | H11: ='Costa Rica'!$G11*0.0026 -> 0 | J11: ='Costa Rica'!$I11*0.0026 -> 0
A12: =$A$8 -> 0 | B12: =B11 -> Day 0 | C12: 0.5 | H12: ='Costa Rica'!$G12*0.0026 -> 0 | J12: ='Costa Rica'!$I12*0.0026 -> 0
A13: =$A$8 -> 0 | B13: =B12 -> Day 0 | C13: 0.54166667 | H13: ='Costa Rica'!$G13*0.0026 -> 0 | J13: ='Costa Rica'!$I13*0.0026 -> 0
A14: =$A$8 -> 0 | B14: =B13 -> Day 0 | C14: 0.58333333 | H14: ='Costa Rica'!$G14*0.0026 -> 0 | J14: ='Costa Rica'!$I14*0.0026 -> 0
A15: =$A$8 -> 0 | B15: =B14 -> Day 0 | C15: 0.625 | H15: ='Costa Rica'!$G15*0.0026 -> 0
A16: =$A$8 -> 0 | B16: =B15 -> Day 0 | C16: 0.66666667 | H16: ='Costa Rica'!$G16*0.0026 -> 0 | J16: ='Costa Rica'!$I16*0.0026 -> 0
A17: =$A$8 -> 0 | B17: =B16 -> Day 0 | C17: 0.70833333 | D17: Dinner at Mexico Airport (Salute Food & Bar) | E17: Food | G17: 8000 | H17: ='Costa Rica'!$G17*0.0026 -> 20.8 | J17: ='Costa Rica'!$I17*0.0026 -> 0
A18: =$A$8 -> 0 | B18: =B17 -> Day 0 | C18: 0.75 | H18: ='Costa Rica'!$G18*0.0026 -> 0 | J18: ='Costa Rica'!$I18*0.0026 -> 0
A19: =$A$8 -> 0 | B19: =B18 -> Day 0 | C19: 0.79166667 | H19: ='Costa Rica'!$G19*0.0026 -> 0 | J19: ='Costa Rica'!$I19*0.0026 -> 0
A20: =$A$8 -> 0 | B20: =B19 -> Day 0 | C20: 0 | D20: Arrive in San Jose | E20: Travel | G20: 0 | H20: ='Costa Rica'!$G20*0.0026 -> 0 | J20: ='Costa Rica'!$I20*0.0026 -> 0
A21: =$A$8 -> 0 | B21: =B20 -> Day 0 | C21: 0 | D21: Taxi to Hotel | E21: Travel | G21: 20000 | H21: ='Costa Rica'!$G21*0.0026 -> 52 | J21: ='Costa Rica'!$I21*0.0026 -> 0
A22: =$A$8 -> 0 | B22: =B21 -> Day 0 | C22: 0 | D22: Hotel | E22: Accomodation | G22: 40000 | H22: ='Costa Rica'!$G22*0.0026 -> 104 | J22: =Table_1[[#This Row],[Actual Cost (CRC)]]*0.0026 -> 0
A23: 1 | B23: Day 1 | C23: 0.33333333 | D23: Breakfast | E23: Food | G23: 8000 | H23: ='Costa Rica'!$G23*0.0026 -> 20.8 | J23: =Table_1[[#This Row],[Actual Cost (CRC)]]*0.0026 -> 0
A24: =A23 -> 1 | B24: =B23 -> Day 1 | C24: 0.375 | D24: Taxi to La Paz Waterfalls Garden Nature Park | E24: Travel | F24: 1h 23 minute taxi | G24: 20000 | H24: ='Costa Rica'!$G24*0.0026 -> 52 | J24: ='Costa Rica'!$I24*0.0026 -> 0
A25: =$A$8+1 -> 1 | B25: =B24 -> Day 1 | C25: 0.41666667 | D25: La Paz Waterfalls Gardens Nature Park (8am-5pm) | E25: Activity | G25: =26000*2 -> 52000 | H25: ='Costa Rica'!$G25*0.0026 -> 135.2 | J25: ='Costa Rica'!$I25*0.0026 -> 0
A26: =$A$8+1 -> 1 | B26: =B25 -> Day 1 | C26: 0.45833333 | H26: ='Costa Rica'!$G26*0.0026 -> 0 | J26: ='Costa Rica'!$I26*0.0026 -> 0
A27: =$A$8+1 -> 1 | B27: =B26 -> Day 1 | C27: 0.5 | H27: ='Costa Rica'!$G27*0.0026 -> 0 | J27: ='Costa Rica'!$I27*0.0026 -> 0
A28: =$A$8+1 -> 1 | B28: =B27 -> Day 1 | C28: 0.54166667 | H28: ='Costa Rica'!$G28*0.0026 -> 0 | J28: ='Costa Rica'!$I28*0.0026 -> 0
A29: =$A$8+1 -> 1 | B29: =B28 -> Day 1 | C29: 0.58333333 | D29: Taxi to Downtown San Jose | E29: Travel | F29: 1h 30 minute taxi | G29: 20000 | H29: ='Costa Rica'!$G29*0.0026 -> 52 | J29: ='Costa Rica'!$I29*0.0026 -> 0
A30: =$A$8+1 -> 1 | B30: =B29 -> Day 1 | C30: 0.625 | D30: Lunch Restaurante Nuestra Tierra (7am-10pm/12am depending on the day) | E30: Food | G30: 25000 | H30: ='Costa Rica'!$G30*0.0026 -> 65 | J30: ='Costa Rica'!$I30*0.0026 -> 0
A31: =$A$8+1 -> 1 | B31: =B30 -> Day 1 | C31: 0.66666667 | D31: Wander Downtown San Jose | E31: Activity | G31: 0 | H31: ='Costa Rica'!$G31*0.0026 -> 0 | J31: ='Costa Rica'!$I31*0.0026 -> 0
A32: =$A$8+1 -> 1 | B32: =B31 -> Day 1 | C32: 0.70833333 | H32: ='Costa Rica'!$G32*0.0026 -> 0 | J32: ='Costa Rica'!$I32*0.0026 -> 0
A33: =$A$8+1 -> 1 | B33: =B32 -> Day 1 | C33: 0.75 | D33: Dinner | E33: Food | G33: 20000 | H33: ='Costa Rica'!$G33*0.0026 -> 52 | J33: ='Costa Rica'!$I33*0.0026 -> 0
A34: =$A$8+1 -> 1 | B34: =B33 -> Day 1 | C34: 0.79166667 | H34: ='Costa Rica'!$G34*0.0026 -> 0 | J34: ='Costa Rica'!$I34*0.0026 -> 0
A35: =$A$8+1 -> 1 | B35: =B34 -> Day 1 | C35: 0.83333333 | H35: ='Costa Rica'!$G35*0.0026 -> 0 | J35: ='Costa Rica'!$I35*0.0026 -> 0
A36: =$A$8+1 -> 1 | B36: =B35 -> Day 1 | C36: 0.875 | H36: ='Costa Rica'!$G36*0.0026 -> 0 | J36: ='Costa Rica'!$I36*0.0026 -> 0
A37: 1 | B37: =B36 -> Day 1 | C37: 0.91666667 | D37: Hotel | E37: Accomodation | G37: 40000 | H37: ='Costa Rica'!$G37*0.0026 -> 104 | J37: =Table_1[[#This Row],[Actual Cost (CRC)]]*0.0026 -> 0
A38: 2 | B38: Day 2 | C38: 0.22916667 | D38: Breakfast | E38: Food | G38: 8000 | H38: ='Costa Rica'!$G38*0.0026 -> 20.8 | J38: =Table_1[[#This Row],[Actual Cost (CRC)]]*0.0026 -> 0
A39: =A38 -> 2 | B39: =B38 -> Day 2 | C39: 0.25 | J39: ='Costa Rica'!$I39*0.0026 -> 0
A40: =A39 -> 2 | B40: =B38 -> Day 2 | C40: 0.27083333 | D40: Arenal Volcano Experience Full Day Tour from San Jose (Pick-up from Hotel at 6:20am) | E40: Activity | G40: =H40/0.0026 -> 166338.46 | H40: =432.48 -> 432.48 | J40: ='Costa Rica'!$I40*0.0026 -> 0 | K40: https://www.viator.com/en-CA/tours/San-Jose/Arenal-Volcano-Experience-Full-Day-tour-from-San-Jose/d793-62880P6
A41: =A40 -> 2 | B41: =B40 -> Day 2 | C41: 0.41666667 | H41: ='Costa Rica'!$G41*0.0026 -> 0 | J41: ='Costa Rica'!$I41*0.0026 -> 0
A42: =A41 -> 2 | B42: =B41 -> Day 2 | C42: 0.45833333 | H42: ='Costa Rica'!$G42*0.0026 -> 0 | J42: ='Costa Rica'!$I42*0.0026 -> 0
A43: =A42 -> 2 | B43: =B42 -> Day 2 | C43: 0.5 | D43: Lunch (Included in tour) | E43: Food | G43: 0 | H43: ='Costa Rica'!$G43*0.0026 -> 0 | J43: ='Costa Rica'!$I43*0.0026 -> 0
A44: =A43 -> 2 | B44: =B43 -> Day 2 | C44: 0.54166667 | H44: ='Costa Rica'!$G44*0.0026 -> 0 | J44: ='Costa Rica'!$I44*0.0026 -> 0
A45: =A44 -> 2 | B45: =B44 -> Day 2 | C45: 0.58333333 | H45: ='Costa Rica'!$G45*0.0026 -> 0
A46: =A45 -> 2 | B46: =B45 -> Day 2 | C46: 0.625 | H46: ='Costa Rica'!$G46*0.0026 -> 0 | J46: ='Costa Rica'!$I46*0.0026 -> 0
A47: =A46 -> 2 | B47: =B46 -> Day 2 | C47: 0.66666667 | H47: ='Costa Rica'!$G47*0.0026 -> 0 | J47: ='Costa Rica'!$I47*0.0026 -> 0
A48: =A47 -> 2 | B48: =B47 -> Day 2 | C48: 0.70833333 | D48: Drop off at Hotel in La Fortuna | E48: Travel | G48: 0 | H48: ='Costa Rica'!$G48*0.0026 -> 0 | J48: ='Costa Rica'!$I48*0.0026 -> 0 | K48: Request the Tour drop-off to be in La Fortuna
A49: =A48 -> 2 | B49: =B48 -> Day 2 | C49: 0.75 | D49: Explore La Fortuna | E49: Activity | G49: 0 | H49: ='Costa Rica'!$G49*0.0026 -> 0 | J49: ='Costa Rica'!$I49*0.0026 -> 0
A50: =A49 -> 2 | B50: =B49 -> Day 2 | C50: 0.79166667 | D50: Dinner Tierra Mia Restaurante (12-9:30pm) | E50: Food | F50: 5min walk | G50: 20000 | H50: ='Costa Rica'!$G50*0.0026 -> 52 | J50: ='Costa Rica'!$I50*0.0026 -> 0
A51: =A50 -> 2 | B51: =B50 -> Day 2 | C51: 0.83333333 | H51: ='Costa Rica'!$G51*0.0026 -> 0 | J51: ='Costa Rica'!$I51*0.0026 -> 0
A52: =A51 -> 2 | B52: =B51 -> Day 2 | C52: 0.875 | H52: ='Costa Rica'!$G52*0.0026 -> 0 | J52: =Table_1[[#This Row],[Actual Cost (CRC)]]*0.0026 -> 0
A53: 2 | B53: =B51 -> Day 2 | C53: 0.91666667 | D53: Hotel | E53: Accomodation | F53: 5min walk | G53: 40000 | H53: ='Costa Rica'!$G53*0.0026 -> 104 | J53: =Table_1[[#This Row],[Actual Cost (CRC)]]*0.0026 -> 0
A54: =A51+1 -> 3 | B54: Day 3 | C54: 0.29166667 | D54: Breakfast | E54: Food | G54: 8000 | H54: ='Costa Rica'!$G54*0.0026 -> 20.8 | J54: =Table_1[[#This Row],[Actual Cost (CRC)]]*0.0026 -> 0
A55: =A54 -> 3 | B55: =B54 -> Day 3 | C55: 0.3125 | G55: 0 | J55: ='Costa Rica'!$I55*0.0026 -> 0
A56: =A55 -> 3 | B56: =B54 -> Day 3 | C56: 0.33333333 | D56: Shuttle from La Fortuna to Monteverde 8am | E56: Travel | F56: 4hour shuttle bus | G56: =40000*2 -> 80000 | H56: ='Costa Rica'!$G56*0.0026 -> 208 | J56: ='Costa Rica'!$I56*0.0026 -> 0 | K56: Interbus
A57: =A56 -> 3 | B57: =B54 -> Day 3 | C57: 0.375 | H57: ='Costa Rica'!$G57*0.0026 -> 0 | J57: ='Costa Rica'!$I57*0.0026 -> 0
A58: =A57 -> 3 | B58: =B57 -> Day 3 | C58: 0.41666667 | H58: ='Costa Rica'!$G58*0.0026 -> 0 | J58: ='Costa Rica'!$I58*0.0026 -> 0
A59: =A58 -> 3 | B59: =B58 -> Day 3 | C59: 0.45833333 | H59: ='Costa Rica'!$G59*0.0026 -> 0 | J59: ='Costa Rica'!$I59*0.0026 -> 0
A60: =A59 -> 3 | B60: =B59 -> Day 3 | C60: 0.5 | D60: Lunch Raulito's Pollo Asado (8am-9:30pm, Sun 8am-3pm) | E60: Food | F60: 2min walk | G60: =3000*2 -> 6000 | H60: ='Costa Rica'!$G60*0.0026 -> 15.6 | J60: ='Costa Rica'!$I60*0.0026 -> 0
A61: =A60 -> 3 | B61: =B60 -> Day 3 | C61: 0.54166667 | D61: Monteverde Cloud Forest (Taxi or book shuttle at Monteverde Info Center for 3USD/one way 1:20pm) | E61: Travel | F61: 10min taxi | G61: 8000 | H61: ='Costa Rica'!$G61*0.0026 -> 20.8
A62: =A61 -> 3 | B62: =B60 -> Day 3 | C62: 0.5625 | D62: Monteverde Cloud Forest (7am-4pm) (Sendero Bosque Nuboso/Cloud Forest Trail) | E62: Activity | G62: =15000*2 -> 30000 | H62: ='Costa Rica'!$G62*0.0026 -> 78 | J62: ='Costa Rica'!$I62*0.0026 -> 0
A63: =A62 -> 3 | B63: =B62 -> Day 3 | C63: 0.58333333 | H63: ='Costa Rica'!$G63*0.0026 -> 0 | J63: ='Costa Rica'!$I63*0.0026 -> 0
A64: =A63 -> 3 | B64: =B63 -> Day 3 | C64: 0.625 | H64: ='Costa Rica'!$G64*0.0026 -> 0 | J64: ='Costa Rica'!$I64*0.0026 -> 0
A65: =A64 -> 3 | B65: =B64 -> Day 3 | C65: 0.66666667 | D65: Bus back to Santa Elena Area | E65: Travel | F65: 20min bus | G65: =800*2 -> 1600 | H65: ='Costa Rica'!$G65*0.0026 -> 4.16 | J65: ='Costa Rica'!$I65*0.0026 -> 0 | K65: Bus fare is 800CRC one way
A66: =A65 -> 3 | B66: =B64 -> Day 3 | C66: 0.70833333 | H66: ='Costa Rica'!$G66*0.0026 -> 0 | J66: ='Costa Rica'!$I66*0.0026 -> 0
A67: =A66 -> 3 | B67: =B66 -> Day 3 | C67: 0.75 | D67: Dinner Treehouse Restaurante (11:30am-10pm) | E67: Food | F67: 5min walk | G67: 35000 | H67: ='Costa Rica'!$G67*0.0026 -> 91 | J67: ='Costa Rica'!$I67*0.0026 -> 0
A68: =A67 -> 3 | B68: =B67 -> Day 3 | C68: 0.79166667 | H68: ='Costa Rica'!$G68*0.0026 -> 0 | J68: =Table_1[[#This Row],[Actual Cost (CRC)]]*0.0026 -> 0
A69: =A68 -> 3 | B69: =B68 -> Day 3 | C69: 0.83333333 | H69: ='Costa Rica'!$G69*0.0026 -> 0 | J69: ='Costa Rica'!$I69*0.0026 -> 0
A70: =A69 -> 3 | B70: =B69 -> Day 3 | C70: 0.875 | H70: ='Costa Rica'!$G70*0.0026 -> 0 | J70: ='Costa Rica'!$I70*0.0026 -> 0
A71: =A70 -> 3 | B71: =B70 -> Day 3 | C71: 0.91666667 | D71: Hotel | E71: Accomodation | F71: 4min walk | G71: 40000 | H71: ='Costa Rica'!$G71*0.0026 -> 104 | J71: =Table_1[[#This Row],[Actual Cost (CRC)]]*0.0026 -> 0
A72: =$A$8+4 -> 4 | B72: Day 4 | C72: 0.29166667 | D72: Breakfast | E72: Food | G72: 8000 | H72: ='Costa Rica'!$G72*0.0026 -> 20.8 | J72: =Table_1[[#This Row],[Actual Cost (CRC)]]*0.0026 -> 0
A73: =$A$8+4 -> 4 | B73: =B72 -> Day 4 | C73: 0.33333333 | D73: Shuttle from Monteverde to Manuel Antonio 8:25am | E73: Travel | F73: 4hour shuttle bus | G73: =45000*2 -> 90000 | H73: =G73*0.0026 -> 234 | J73: =Table_1[[#This Row],[Actual Cost (CRC)]]*0.0026 -> 0 | K73: Interbus
A74: =$A$8+4 -> 4 | B74: =B72 -> Day 4 | C74: 0.375 | H74: ='Costa Rica'!$G74*0.0026 -> 0 | J74: =Table_1[[#This Row],[Actual Cost (CRC)]]*0.0026 -> 0
A75: =$A$8+4 -> 4 | B75: =B73 -> Day 4 | C75: 0.41666667 | H75: ='Costa Rica'!$G75*0.0026 -> 0 | J75: =Table_1[[#This Row],[Actual Cost (CRC)]]*0.0026 -> 0
A76: =$A$8+4 -> 4 | B76: =B75 -> Day 4 | C76: 0.45833333 | H76: ='Costa Rica'!$G76*0.0026 -> 0 | J76: =Table_1[[#This Row],[Actual Cost (CRC)]]*0.0026 -> 0
A77: =$A$8+4 -> 4 | B77: =B76 -> Day 4 | C77: 0.5 | H77: ='Costa Rica'!$G77*0.0026 -> 0 | J77: =Table_1[[#This Row],[Actual Cost (CRC)]]*0.0026 -> 0
A78: =$A$8+4 -> 4 | B78: =B77 -> Day 4 | C78: 0.52083333 | D78: Lunch (Something quick) | E78: Food | G78: 8000 | H78: ='Costa Rica'!$G78*0.0026 -> 20.8 | J78: =Table_1[[#This Row],[Actual Cost (CRC)]]*0.0026 -> 0
A79: =$A$8+4 -> 4 | B79: =B78 -> Day 4 | C79: 0.54166667 | D79: Sunset Sails Tours Afternoon Cruise (Pick-up from Hotel 1:20pm) | E79: Activity | G79: =H79/0.0026 -> 100876.92 | H79: =131.14*2 -> 262.28 | J79: =Table_1[[#This Row],[Actual Cost (CRC)]]*0.0026 -> 0
A80: =$A$8+4 -> 4 | B80: =B79 -> Day 4 | C80: 0.625 | H80: ='Costa Rica'!$G80*0.0026 -> 0 | J80: =Table_1[[#This Row],[Actual Cost (CRC)]]*0.0026 -> 0
A81: =$A$8+4 -> 4 | B81: =B80 -> Day 4 | C81: 0.66666667 | H81: ='Costa Rica'!$G81*0.0026 -> 0 | J81: =Table_1[[#This Row],[Actual Cost (CRC)]]*0.0026 -> 0
A82: =$A$8+4 -> 4 | B82: =B81 -> Day 4 | C82: 0.70833333 | H82: ='Costa Rica'!$G82*0.0026 -> 0 | J82: =Table_1[[#This Row],[Actual Cost (CRC)]]*0.0026 -> 0
A83: =$A$8+4 -> 4 | B83: =B82 -> Day 4 | C83: 0.75 | D83: Dinner included in tour | E83: Food | G83: 0 | H83: ='Costa Rica'!$G83*0.0026 -> 0 | J83: =Table_1[[#This Row],[Actual Cost (CRC)]]*0.0026 -> 0
A84: =$A$8+4 -> 4 | B84: =B83 -> Day 4 | C84: 0.79166667 | H84: ='Costa Rica'!$G84*0.0026 -> 0 | J84: =Table_1[[#This Row],[Actual Cost (CRC)]]*0.0026 -> 0
A85: =$A$8+4 -> 4 | B85: =B83 -> Day 4 | C85: 0.83333333 | H85: ='Costa Rica'!$G85*0.0026 -> 0 | J85: =Table_1[[#This Row],[Actual Cost (CRC)]]*0.0026 -> 0
A86: =$A$8+4 -> 4 | B86: =B85 -> Day 4 | C86: 0.875 | H86: ='Costa Rica'!$G86*0.0026 -> 0 | J86: =Table_1[[#This Row],[Actual Cost (CRC)]]*0.0026 -> 0
A87: =$A$8+4 -> 4 | B87: =B86 -> Day 4 | C87: 0.91666667 | D87: Hotel | E87: Accomodation | G87: 40000 | H87: ='Costa Rica'!$G87*0.0026 -> 104 | J87: =Table_1[[#This Row],[Actual Cost (CRC)]]*0.0026 -> 0
A88: =$A$8+5 -> 5 | B88: Day 5 | C88: 0.25 | D88: Breakfast | E88: Food | G88: 8000 | H88: ='Costa Rica'!$G88*0.0026 -> 20.8 | J88: ='Costa Rica'!$I88*0.0026 -> 0
A89: =$A$8+5 -> 5 | B89: =B88 -> Day 5 | C89: 0.29166667 | D89: Manuel Antonio Tour (Pick-up from Hotel at 7:15am) | E89: Activity | G89: =H89/0.0026 -> 67953.846 | H89: =(61.92+26.42)*2 -> 176.68 | J89: ='Costa Rica'!$I89*0.0026 -> 0
A90: =$A$8+5 -> 5 | B90: =B89 -> Day 5 | C90: 0.41666667 | J90: ='Costa Rica'!$I90*0.0026 -> 0
A91: =$A$8+5 -> 5 | B91: =B90 -> Day 5 | C91: 0.45833333 | H91: ='Costa Rica'!$G91*0.0026 -> 0 | J91: ='Costa Rica'!$I91*0.0026 -> 0
A92: =$A$8+5 -> 5 | B92: =B91 -> Day 5 | C92: 0.5 | D92: Lunch at Park Cafeteria | E92: Food | G92: =5000*2 -> 10000 | H92: ='Costa Rica'!$G92*0.0026 -> 26 | J92: ='Costa Rica'!$I92*0.0026 -> 0
A93: =$A$8+5 -> 5 | B93: =B92 -> Day 5 | C93: 0.54166667 | D93: Manuel Antonio Beach | E93: Activity | G93: 0 | H93: ='Costa Rica'!$G93*0.0026 -> 0 | J93: ='Costa Rica'!$I93*0.0026 -> 0
A94: =$A$8+5 -> 5 | B94: =B93 -> Day 5 | C94: 0.58333333 | H94: ='Costa Rica'!$G94*0.0026 -> 0 | J94: ='Costa Rica'!$I94*0.0026 -> 0
A95: =$A$8+5 -> 5 | B95: =B94 -> Day 5 | C95: 0.625 | H95: ='Costa Rica'!$G95*0.0026 -> 0 | J95: ='Costa Rica'!$I95*0.0026 -> 0
A96: =$A$8+5 -> 5 | B96: =B95 -> Day 5 | C96: 0.66666667 | H96: ='Costa Rica'!$G96*0.0026 -> 0 | J96: ='Costa Rica'!$I96*0.0026 -> 0
A97: =$A$8+5 -> 5 | B97: =B96 -> Day 5 | C97: 0.70833333 | D97: Bus from Manuel Antonio Park | E97: Travel | G97: =250*2 -> 500 | H97: ='Costa Rica'!$G97*0.0026 -> 1.3 | J97: ='Costa Rica'!$I97*0.0026 -> 0
A98: =$A$8+5 -> 5 | B98: =B97 -> Day 5 | C98: 0.75 | D98: Dinner Emilio's Cafe (7am-9pm, Closed Tues) | E98: Food | F98: 10 min bus | G98: =10000*2 -> 20000 | H98: ='Costa Rica'!$G98*0.0026 -> 52 | J98: ='Costa Rica'!$I98*0.0026 -> 0
A99: =$A$8+5 -> 5 | B99: =B98 -> Day 5 | C99: 0.79166667 | H99: ='Costa Rica'!$G99*0.0026 -> 0 | J99: ='Costa Rica'!$I99*0.0026 -> 0
A100: =$A$8+5 -> 5 | B100: =B99 -> Day 5 | C100: 0.83333333 | H100: ='Costa Rica'!$G100*0.0026 -> 0 | J100: ='Costa Rica'!$I100*0.0026 -> 0
...

Sheet Pivot Table 1
A2: Costa Rica
B3: Category | C3: SUM of Budget Cost ($CAD) | D3: SUM of Actual Cost ($CAD) | F3: Day | G3: Sum of Budget Cost ($CAD) | H3: Sum of Actual Cost ($CAD)
B4: Accomodation | C4: 728 | D4: 0 | F4: 0 | G4: 2308.8 | H4: 0
B5: Activity | C5: 949.44 | D5: 0 | F5: 1 | G5: 481 | H5: 0
B6: Activity | C6: 135.2 | D6: 0 | F6: 2 | G6: 609.28 | H6: 0
B7: Food | C7: 634.4 | D7: 0 | F7: 3 | G7: 542.36 | H7: 0
B8: Travel | C8: 2964.26 | D8: 0 | F8: 4 | G8: 641.88 | H8: 0
B9: (blank) | C9: 0 | D9: 0 | F9: 5 | G9: 380.78 | H9: 0
B10: Grand Total | C10: 5411.3 | D10: 0 | F10: 6 | G10: 426.4 | H10: 0
F11: 7 | G11: 20.8 | H11: 0
F12: Grand Total | G12: 5411.3 | H12: 0
