Workbook

Sheet Itinerary
A1: Date | B1: Time | C1: Departure/Arrival | D1: Location | E1: Check-in | F1: Check-out | G1: Accomodation
A2: 45627 | C2: Departure
A3: =A2 -> 45627 | C3: Arrival | D3: Edinburgh
A4: =A2 -> 45627 | C4: Overnight Trip | D4: Edinburgh
A5: =A2+1 -> 45628 | C5: Overnight Trip | D5: Edinburgh
A6: =A5+1 -> 45629 | C6: Departure | D6: Edinburgh
A7: =A6 -> 45629 | C7: Arrival

Sheet Edinburgh
B1: GBP
A2: Budget | B2: 400
A3: Total Forecast (Activities + Food) | B3: =G53 -> 307.5
A4: GBP Available | B4: =B2-B3 -> 92.5
A5: GBP Actual Spent | B5: =H53 -> 0
A7: Day | B7: Date | C7: Time | D7: Activity | E7: Category | F7: Travel Time | G7: Forecast Cost (GBP) | H7: Actual Cost (GBP) | I7: Notes
A8: 0 | B8: 45627 | C8: 0.33333333
A9: =$A$8 -> 0 | B9: =B8 -> 45627 | C9: 0.375
A10: =$A$8 -> 0 | B10: =B9 -> 45627 | C10: 0.41666667
A11: =$A$8 -> 0 | B11: =B10 -> 45627 | C11: 0.45833333
A12: =$A$8 -> 0 | B12: =B11 -> 45627 | C12: 0.5
A13: =$A$8 -> 0 | B13: =B12 -> 45627 | C13: 0.54166667
A14: =$A$8 -> 0 | B14: =B13 -> 45627 | C14: 0.58333333
A15: =$A$8 -> 0 | B15: =B14 -> 45627 | C15: 0.625
A16: =$A$8 -> 0 | B16: =B15 -> 45627 | C16: 0.66666667
A17: =$A$8 -> 0 | B17: =B16 -> 45627 | C17: 0.70833333
A18: =$A$8 -> 0 | B18: =B17 -> 45627 | C18: 0.75
A19: =$A$8 -> 0 | B19: =B18 -> 45627 | C19: 0.79166667
A20: =$A$8 -> 0 | B20: =B19 -> 45627 | C20: 0.83333333 | D20: Edinburgh Christmas Market 10am-10pm (Dinner) (Jarvis Pickle for Scottish Pie) | E20: Food | F20: 10min walk | G20: 15
A21: =$A$8 -> 0 | B21: =B20 -> 45627 | C21: 0.875 | D21: Mulled Wine Christmas Market | E21: Food | G21: 10
A22: =$A$8 -> 0 | B22: =B21 -> 45627 | C22: 0.91666667 | D22: Hotel | E22: Accomodation | F22: 4min walk | G22: 44
A23: =$A$8+1 -> 1 | B23: =B8+1 -> 45628 | C23: 0.33333333 | D23: Breakfast (The Milkman on Cockburn St) (9am-5pm Sun, 8am-5pm) | E23: Food | F23: 3min walk | G23: 10
A24: =$A$8+1 -> 1 | B24: =B23 -> 45628 | C24: 0.375 | D24: Calton Hill (Nelson Monument, National Monument of Scotland, and Dugald Stewart Monument) | E24: Travel | F24: 13min walk | G24: 0
A25: =$A$8+1 -> 1 | B25: =B24 -> 45628 | C25: 0.41666667 | D25: Holyrood Palace (9:30am-4:30pm, Closed Tues-Weds) (BOOK AHEAD) | E25: Activity | F25: 15min walk | G25: 20
A26: =$A$8+1 -> 1 | B26: =B25 -> 45628 | C26: 0.45833333 | D26: Scottish Parliament (10am-5pm) --> Museum of Edinburgh (10am-5pm) | E26: Activity | F26: 6min walk | G26: 0
A27: =$A$8+1 -> 1 | B27: =B26 -> 45628 | C27: 0.5 | D27: Lunch (Oink Canongate 11am-5pm) | E27: Food | F27: 2min walk | G27: 10
A28: =$A$8+1 -> 1 | B28: =B27 -> 45628 | C28: 0.54166667 | D28: St. Giles Cathedral (9am-5pm Sat, 1-5pm Sun, 10am-6pm Mon-Fri) | E28: Activity | F28: 15min walk | G28: 0
A29: =$A$8+1 -> 1 | B29: =B28 -> 45628 | C29: 0.58333333 | D29: Edinburgh Castle (9:30am-5pm) (BOOK AHEAD) | E29: Activity | F29: 5min walk | G29: 19.5
A30: =$A$8+1 -> 1 | B30: =B29 -> 45628 | C30: 0.625
A31: =$A$8+1 -> 1 | B31: =B30 -> 45628 | C31: 0.66666667 | D31: The Writer's Museum (10am-5pm) | E31: Activity | F31: 5min walk | G31: 0
A32: =$A$8+1 -> 1 | B32: =B31 -> 45628 | C32: 0.70833333 | D32: The Scotch Whisky Experience (10am-6:20pm) (BOOK AHEAD) | E32: Activity | F32: 5min walk | G32: 25
A33: =$A$8+1 -> 1 | B33: =B32 -> 45628 | C33: 0.75
A34: =$A$8+1 -> 1 | B34: =B33 -> 45628 | C34: 0.79166667 | D34: Edinburgh Christmas Market 10am-10pm (Dinner) (Salmon) | E34: Food | G34: 15
A35: =$A$8+1 -> 1 | B35: =B34 -> 45628 | C35: 0.83333333
A36: =$A$8+1 -> 1 | B36: =B35 -> 45628 | C36: 0.875
A37: =$A$8+1 -> 1 | B37: =B36 -> 45628 | C37: 0.91666667 | D37: Hotel | E37: Accomodation | G37: 44
A38: =$A$8+2 -> 2 | B38: =B23+1 -> 45629 | C38: 0.33333333
A39: =$A$8+2 -> 2 | B39: =B38 -> 45629 | C39: 0.375 | D39: Breakfast (Mor Bakehouse (Cornish Pastie) (8am-7pm)) | E39: Food | F39: 8min walk | G39: 10
A40: =$A$8+2 -> 2 | B40: =B39 -> 45629 | C40: 0.41666667 | D40: Explore Old Town and Royal Mile (Victoria Street --> Victoria Terrace --> Grassmarket --> The Vennel Viewpoint --> The Flodden Wall --> Greyfriars Kirkyard) | E40: Activity | F40: 1hr wander | G40: 0
A41: =$A$8+2 -> 2 | B41: =B40 -> 45629 | C41: 0.45833333 | D41: National Museum of Scotland (10am-5pm) | E41: Activity | F41: 2min walk | G41: 0
...

Sheet Portugal old
B1: $CAD
A2: Budget | B2: 3000
A3: Total Vacation Cost (Activities + Food) | B3: =I138 -> 2789.67
A4: $ Available | B4: =B2-B3 -> 210.33
A5: $ Actual Spent | B5: =K138 -> 261.85
A7: Day | B7: Date | C7: Time | D7: Activity | E7: Category | F7: Travel Time | G7: Transit | H7: Budget Cost (Euro) | I7: Budget Cost ($CAD) | J7: Actual Cost (Euro) | K7: Actual Cost ($CAD) | L7: Notes
A8: 1 | B8: =B18-1 -> 44842 | C8: 0.58333333 | D8: Arrive in Lisbon | E8: Travel | I8: =H8*1.38 -> 0 | K8: =J8*1.38 -> 0
A9: 1 | B9: =B8 -> 44842 | C9: 0.625 | D9: Dinner Cervejaria Ramiro | E9: Food | F9: 5min walk | H9: 100 | I9: =H9*1.38 -> 138 | K9: =J9*1.38 -> 0
A10: 1 | B10: =B9 -> 44842 | C10: 0.66666667 | D10: Wander Barrio Alto Neighbourhood | E10: Activity | G10: 32min transit | I10: =H10*1.38 -> 0 | K10: =J10*1.38 -> 0 | L10: 20% discount with Lisboa Card | N10: Ideas | P10: Route
A11: 1 | B11: =B10 -> 44842 | C11: 0.70833333 | D11: Carmo Convent Ruins (10am-6pm) | E11: Travel | F11: 3min walk | H11: =5*2 -> 10 | I11: =H11*1.38 -> 13.8 | K11: =J11*1.38 -> 0 | L11: Included with Lisboa Card | N11: Lisbon | P11: Lisbon
A12: 1 | B12: =B11 -> 44842 | C12: 0.75 | D12: Santa Justa Lift (7am-11pm) | E12: Activity | F12: 6min walk | H12: =5.15*2 -> 10.3 | I12: =H12*1.38 -> 14.214 | K12: =J12*1.38 -> 0 | L12: Have Chorico Assado na Canoa | N12: Cabo da Roca | P12: Sintra
A13: 1 | B13: =B12 -> 44842 | C13: 0.79166667 | D13: Fado Show (Tasca do Chico on Rua do Loreto 2 7pm-2am) | E13: Activity | F13: 13min walk | H13: 10 | I13: =H13*1.38 -> 13.8 | K13: =J13*1.38 -> 0 | N13: Sintra | P13: Obidos
A14: 1 | B14: =B13 -> 44842 | C14: 0.83333333 | D14: Dessert at Manteigaria (8am-12am) | E14: Food | F14: 3min walk | H14: 3 | I14: =H14*1.38 -> 4.14 | K14: =J14*1.38 -> 0 | N14: Cabo Carvoeiro | P14: Nazare
A15: 1 | B15: =B14 -> 44842 | C15: 0.85416667 | D15: Wander Pink Street | E15: Activity | F15: 6min walk | H15: 0 | I15: =H15*1.38 -> 0 | K15: =J15*1.38 -> 0
A16: 1 | B16: =B14 -> 44842 | C16: 0.875 | D16: Hotel (Lisbon) | E16: Accomodation | H16: 95 | I16: =H16*1.38 -> 131.1 | J16: =K16/1.38 -> 94.873188 | K16: =261.85/2 -> 130.925 | L16: Casas de Sao Bento, Rua Correia Garcao, 3 Lisbon, 1200-640, Portugal | N16: Obidos | P16: Aveiro
A17: 1 | B17: =B16 -> 44842 | C17: 0.91666667 | D17: Transit | E17: Travel | H17: 3 | I17: =H17*1.38 -> 4.14 | K17: =J17*1.38 -> 0 | N17: Mira De Aire Caves | P17: Porto
A18: 2 | B18: 44843 | C18: 0.33333333 | E18: Travel | I18: ='Portugal old'!$H18*1.38 -> 0 | K18: ='Portugal old'!$J18*1.38 -> 0 | N18: Tomar | P18: Duoro Valley
A19: =$A$18 -> 2 | B19: =B18 -> 44843 | C19: 0.375 | D19: Breakfast Pasteis de Belem (8am-9pm) | E19: Food | G19: 44min transit | H19: 3 | I19: ='Portugal old'!$H19*1.38 -> 4.14 | K19: ='Portugal old'!$J19*1.38 -> 0 | N19: Coimbra | P19: Coimbra
A20: =$A$18 -> 2 | B20: =B19 -> 44843 | C20: 0.41666667 | D20: Padrao dos Descobrimentos --> Belem Tower (10am-5:30pm, Closed Monday) | E20: Activity | F20: 18min walk | H20: 0 | I20: ='Portugal old'!$H20*1.38 -> 0 | K20: ='Portugal old'!$J20*1.38 -> 0 | L20: Included with Lisboa Card; without 6 euros/person | N20: Bucaco Forest and Palace | P20: Tomar
A21: =$A$18 -> 2 | B21: =B20 -> 44843 | C21: 0.45833333 | D21: Monastery of San Jeronimo (10am-5pm, Closed Monday) --> Palacio Nacional da Ajuda (10am-5pm, Closed Monday) (14min transit) | E21: Activity | F21: 14min walk | H21: 0 | I21: ='Portugal old'!$H21*1.38 -> 0 | K21: ='Portugal old'!$J21*1.38 -> 0 | L21: Included with Lisboa Card; without 10 euros/person Monastery and 5 euros/person Palace | N21: Espinho | P21: Lisbon
A22: =$A$18 -> 2 | B22: =B21 -> 44843 | C22: 0.5 | D22: LX Factory | E22: Activity | G22: 12min transit | H22: 0 | I22: ='Portugal old'!$H22*1.38 -> 0 | K22: ='Portugal old'!$J22*1.38 -> 0 | N22: Vila Nova de Gaia
A23: =$A$18 -> 2 | B23: =B22 -> 44843 | C23: 0.54166667 | D23: Lunch Bifana (O Trevo) --> Ginjinja Sem Rival (8am-12pm) (10min walk) | E23: Food | G23: 25min transit | H23: 10 | I23: ='Portugal old'!$H23*1.38 -> 13.8 | K23: ='Portugal old'!$J23*1.38 -> 0 | N23: Aveiro
A24: =$A$18 -> 2 | B24: =B23 -> 44843 | C24: 0.58333333 | D24: Santa Engracia National Pantheon (10am-5pm) | E24: Activity | G24: 17min transit | I24: ='Portugal old'!$H24*1.38 -> 0 | K24: ='Portugal old'!$J24*1.38 -> 0 | L24: Included with Lisboa Card; without Arco Da Rua August 3 euros/person | N24: Porto
A25: =$A$18 -> 2 | B25: =B24 -> 44843 | C25: 0.625 | D25: Miraouro das Portas de Sol --> Sao Jorge Castle (9am-9pm)(4min walk) | E25: Activity | F25: 10min walk | H25: 11.2 | I25: ='Portugal old'!$H25*1.38 -> 15.456 | K25: ='Portugal old'!$J25*1.38 -> 0 | L25: 30% discount with Lisboa Card | N25: Duoro Valley
A26: =$A$18 -> 2 | B26: =B25 -> 44843 | C26: 0.66666667 | D26: Se Cathedral (Lisbon Cathedral) --> Praca do Commercio (7min walk) --> Arco da Rua Augusta (9am-7pm) | E26: Activity | F26: 8min walk | I26: ='Portugal old'!$H26*1.38 -> 0 | K26: ='Portugal old'!$J26*1.38 -> 0 | L26: Included with Lisboa Card; without 5 euros/person
A27: =$A$18 -> 2 | B27: =B26 -> 44843 | C27: 0.70833333 | I27: ='Portugal old'!$H27*1.38 -> 0 | K27: ='Portugal old'!$J27*1.38 -> 0
A28: =$A$18 -> 2 | B28: =B27 -> 44843 | C28: 0.75 | D28: Dinner (Tapa Bucho or Leve Leve - Tapas Bar or Trobadores) | E28: Food | G28: 12min transit | H28: 30 | I28: ='Portugal old'!$H28*1.38 -> 41.4 | K28: ='Portugal old'!$J28*1.38 -> 0
A29: =$A$18 -> 2 | B29: =B28 -> 44843 | C29: 0.79166667 | D29: Niva Cremeria Gelateria Italiana (11:30am-12:30am) | E29: Food | H29: 10 | I29: ='Portugal old'!$H29*1.38 -> 13.8 | K29: ='Portugal old'!$J29*1.38 -> 0
A30: =$A$18 -> 2 | B30: =B29 -> 44843 | C30: 0.83333333 | I30: ='Portugal old'!$H30*1.38 -> 0 | K30: ='Portugal old'!$J30*1.38 -> 0
A31: =$A$18 -> 2 | B31: =B30 -> 44843 | C31: 0.875 | D31: Airbnb (Lisbon) | E31: Accomodation | H31: 95 | I31: ='Portugal old'!$H31*1.38 -> 131.1 | J31: =K31/1.38 -> 94.873188 | K31: =261.85/2 -> 130.925 | L31: Casas de Sao Bento, Rua Correia Garcao, 3 Lisbon, 1200-640, Portugal
A32: =$A$18 -> 2 | B32: =B31 -> 44843 | C32: 0.91666667 | D32: Transit (Purchase 24 hour Lisboa Card) | E32: Car | H32: 42 | I32: ='Portugal old'!$H32*1.38 -> 57.96 | K32: ='Portugal old'!$J32*1.38 -> 0 | L32: Lisboa Card is (21Euros/Person), 24hour bus fare is 6.40 euros/person
A33: =$A$18+1 -> 3 | B33: =B18+1 -> 44844 | C33: 0.33333333 | D33: Breakfast Confeteiria Nacional (8:30am-8pm) or Cafe A Brasileira (8am-12am) | E33: Food | H33: 10 | I33: ='Portugal old'!$H33*1.38 -> 13.8 | K33: ='Portugal old'!$J33*1.38 -> 0
A34: =$A$18+1 -> 3 | B34: =B33 -> 44844 | C34: 0.375 | D34: Pick-up Car | E34: Car | H34: 290 | I34: ='Portugal old'!$H34*1.38 -> 400.2 | K34: ='Portugal old'!$J34*1.38 -> 0 | L34: https://www.getyourguide.com/porto-l151/around-the-douro-valley-all-included-t73660/
A35: =$A$18+1 -> 3 | B35: =B34 -> 44844 | C35: 0.41666667 | D35: Quinta de Regaleira (10am-5:30pm) | E35: Activity | F35: 30min drive | H35: 20 | I35: ='Portugal old'!$H35*1.38 -> 27.6 | K35: ='Portugal old'!$J35*1.38 -> 0
A36: =$A$18+1 -> 3 | B36: =B35 -> 44844 | C36: 0.45833333 | D36: Palacio Nacional de Sintra (9am-5:30pm) | E36: Activity | F36: 13min walk | H36: 20 | I36: ='Portugal old'!$H36*1.38 -> 27.6 | K36: ='Portugal old'!$J36*1.38 -> 0
A37: =$A$18+1 -> 3 | B37: =B36 -> 44844 | C37: 0.5 | D37: Lunch in Sintra (Tascantiga - Closed Sun, Mon-Sat 12-5pm, Fri-Sat 7-10pm) | E37: Food | F37: 6min walk | H37: 25 | I37: ='Portugal old'!$H37*1.38 -> 34.5 | K37: ='Portugal old'!$J37*1.38 -> 0
A38: =$A$18+1 -> 3 | B38: =B37 -> 44844 | C38: 0.54166667 | D38: Casa Piriquita (9:30am-7pm) | E38: Food | F38: 2min walk | H38: 3 | I38: ='Portugal old'!$H38*1.38 -> 4.14 | K38: ='Portugal old'!$J38*1.38 -> 0
A39: =$A$18+1 -> 3 | B39: =B38 -> 44844 | C39: 0.58333333 | D39: Castelos dos Mouros (9:30am-5:30pm) | E39: Activity | F39: 13min walk | H39: 16 | I39: ='Portugal old'!$H39*1.38 -> 22.08 | K39: ='Portugal old'!$J39*1.38 -> 0
A40: =$A$18+1 -> 3 | B40: =B39 -> 44844 | C40: 0.625 | D40: Pena Palace (9am-6pm) | E40: Activity | F40: 15min walk | H40: 28 | I40: ='Portugal old'!$H40*1.38 -> 38.64 | K40: ='Portugal old'!$J40*1.38 -> 0
A41: =$A$18+1 -> 3 | B41: =B40 -> 44844 | C41: 0.66666667 | D41: Palacio de Monserrate (9am-6pm) | E41: Activity | F41: 15min drive | H41: 16 | I41: ='Portugal old'!$H41*1.38 -> 22.08 | K41: ='Portugal old'!$J41*1.38 -> 0
...

Sheet Pivot Table 1
A2: Edinburgh
